BEGIN:VCALENDAR
VERSION:2.0
PRODID:-//Gratis-in-Berlin//NONSGML kigkonsult.se iCalcreator 2.14//
METHOD:PUBLISH
X-WR-CALNAME:Gratis-in-Berlin Tip Kalender
X-WR-CALDESC:Erhalte Gratis-in-Berlin Tips in deinem Kalender
BEGIN:VEVENT
UID:20260421T160054UTC-6910BeElxM@Gratis-in-Berlin
DTSTAMP:20260421T160054Z
DESCRIPTION:ERZÄHLBÜHNE in der KulturMarktHalleDie Bühne für frei erzählte GeschichtenMit
  professionellen Erzähler*innen aus aller Welt und offener Bühne im zweiten Teil.
  Es wird frei erzählt mit Wort und Witz\, Händen und Füßen\, Musik und Gesang. Am F
 reitag\, dem 13. Juni 2025 um 19:30 Uhr mit:\nSigrid Varduhn \nANS MEER!\n
 Ans Meer! Kommt mit ans Meer. Von der Sehnsucht nach dem Meer wird Siri Va
 rduhn erzählen\, von Inseln und Wäldern\, die im Meer verschwanden und von ura
 lten Fischen\, die auf ewig die Ozeane durchstreifen. Und vom Leben der Me
 erfrau. Denn auf der Suche nach dem Meer führt eine Geschichte zur anderen. Ihr
  werdet das Meer raunen\, stürmen und wispern hören und seine Wellen werden euch m
 it ihrem Gesang verzaubern. Sigrid Varduhnist in Berlin aufgewachsen\, leb
 t in Caputh am Schwielowsee und sie hat es mit dem weiten Wasser. Ihre Erz
 ählspaziergänge führen durchs Havelland\, an Seen und Flüssen entlang und zum Meer. Sie 
 hat den Grund- und Aufbaukurs von Erzählkunst absolviert und erweitert ihr G
 eschichtenrepertoire jedes Jahr durch ein neues Schwerpunktthema. Und als 
 Schreibgruppenleiterin liebt sie es auch kreativ schreibend mit Märchenmotiv
 en zu spielen. www.sigridvarduhn.deDanach offene Erzählbühnezum Thema: Meermit eu
 ren Geschichten von bis zu 10 Minuten Länge. Mythen\, Märchen\, Literarisches\
 , Biografisches oder Fiktives - frei erzählt mit Wort und Witz\, Händen und Füßen\,
  Musik und Gesang.\n\n\n\nViel Spass wünscht Gratis-in-Berlin\n\nLink zum Tip: 
 https://www.gratis-in-berlin.de/kalender/item/2073114-erzaehlbuehne-in-der
 -kulturmarkthalle\nZu den Gratis-in-Berlin Angeboten: http://www.gratis-in
 -berlin.de\n
DTSTART;VALUE=DATE:20250613
DTEND;VALUE=DATE:20250614
SUMMARY:Erzählbühne in der KulturMarktHalle
END:VEVENT
END:VCALENDAR
