BEGIN:VCALENDAR
VERSION:2.0
PRODID:-//Gratis-in-Berlin//NONSGML kigkonsult.se iCalcreator 2.14//
METHOD:PUBLISH
X-WR-CALNAME:Gratis-in-Berlin Tip Kalender
X-WR-CALDESC:Erhalte Gratis-in-Berlin Tips in deinem Kalender
BEGIN:VEVENT
UID:20260419T122215UTC-7524AVdoNa@Gratis-in-Berlin
DTSTAMP:20260419T122215Z
DESCRIPTION:Notizen aus Berlin - Geschichten\, die das Großstadtleben schrei
 btBerlin ist eine Stadt voller Geschichten ? manche laut\, manche leise\, 
 aber alle irgendwie besonders. In unserer neuen Impro-Show lassen wir uns 
 von den Zetteln und Aushängen inspirieren\, die überall in der Stadt zu finden si
 nd: ?Zu verschenken!?\, ?Bitte nicht stören!?\, ?Hundehalter gesucht!? ? Wer 
 und was steckt hinter diesen Mitteilungen? Was passiert mit den Menschen\,
  die sie hinterlassen haben? Wie geht ihre Geschichte weiter? Werden sie d
 as finden\, was sie suchen? Oder wird alles ganz anders?Lass Dich von uns 
 entführen und erlebe eine unvergessliche Reise durch Berlin\, die Du so noch ni
 e gesehen hast! Sei am 27.09.25 dabei und entdecke in Pankows neuer Locati
 on 'HumasHeimatHafen' die vielen unbekannten Seiten der Stadt ? improvisie
 rt\, lebendig und voller Fantasie!Reserviere Dir gleich jetzt Dein Yes-Tic
 ket für diesen spannenden Impro-Abend. Der Eintritt ist frei\, Spenden sind seh
 r herzlich willkommen. Nicht verpassen ? es wird großartig!\n\nViel Spass w
 ünscht Gratis-in-Berlin\n\nLink zum Tip: \nZu den Gratis-in-Berlin Angeboten: h
 ttp://www.gratis-in-berlin.de\n
DTSTART;VALUE=DATE:20250927
DTEND;VALUE=DATE:20250928
SUMMARY:Adhoc-Impro präsentiert 'Notizen aus Berlin'
END:VEVENT
END:VCALENDAR
