BEGIN:VCALENDAR
VERSION:2.0
PRODID:-//Gratis-in-Berlin//NONSGML kigkonsult.se iCalcreator 2.14//
METHOD:PUBLISH
X-WR-CALNAME:Gratis-in-Berlin Tip Kalender
X-WR-CALDESC:Erhalte Gratis-in-Berlin Tips in deinem Kalender
BEGIN:VEVENT
UID:20260421T091059UTC-7536EOp3KT@Gratis-in-Berlin
DTSTAMP:20260421T091059Z
DESCRIPTION:Mit wechselnden Comedians aus der Berliner Comedy-Szene sowie G
 ästen aus ganz Deutschland erwartet euch ein abwechslungsreiches Programm!#S
 KOA Comedy ist eine Open-Mic-Show mit ausgewählten Comedians\, die für Lachen und
  Unterhaltung sorgen. Jede Woche treten neue Comedians auf und testen ihre
  Jokes. Ein unvergesslicher Abend voller guter Laune und positiver Vibes i
 st garantiert. Kommt vorbei ? wir freuen uns auf euch!\n\nViel Spass wünscht Gr
 atis-in-Berlin\n\nLink zum Tip: https://www.gratis-in-berlin.de/uebermorge
 n/item/2075159-skoa-standup-comedy-show\nZu den Gratis-in-Berlin Angeboten
 : http://www.gratis-in-berlin.de\n
DTSTART;VALUE=DATE:20260422
DTEND;VALUE=DATE:20260423
SUMMARY:Standup Comedy Show - SKOA Comedy im Karakas / Schöneberg 19 Uhr
END:VEVENT
END:VCALENDAR
