BEGIN:VCALENDAR
VERSION:2.0
PRODID:-//Gratis-in-Berlin//NONSGML kigkonsult.se iCalcreator 2.14//
METHOD:PUBLISH
X-WR-CALNAME:Gratis-in-Berlin Tip Kalender
X-WR-CALDESC:Erhalte Gratis-in-Berlin Tips in deinem Kalender
BEGIN:VEVENT
UID:20260421T111014UTC-2375MGDwCx@Gratis-in-Berlin
DTSTAMP:20260421T111014Z
DESCRIPTION:\n\nViel Spass wünscht Gratis-in-Berlin\n\nLink zum Tip: \nZu den Gr
 atis-in-Berlin Angeboten: http://www.gratis-in-berlin.de\n
DTSTART;VALUE=DATE:20260213
DTEND;VALUE=DATE:20260214
SUMMARY:Roast Battle Berlin #37 - Round 2 - Christofaro vs. Walsh: Standup 
 Comedy in English at the Wall Comedy Club
END:VEVENT
END:VCALENDAR
