BEGIN:VCALENDAR
VERSION:2.0
PRODID:-//Gratis-in-Berlin//NONSGML kigkonsult.se iCalcreator 2.14//
METHOD:PUBLISH
X-WR-CALNAME:Gratis-in-Berlin Tip Kalender
X-WR-CALDESC:Erhalte Gratis-in-Berlin Tips in deinem Kalender
BEGIN:VEVENT
UID:20260419T132203UTC-7616rcRgA0@Gratis-in-Berlin
DTSTAMP:20260419T132203Z
DESCRIPTION:One man's journey from India to Europe\, navigating existential
  crises and philosophical conundrums. Socioeconomic plights and fascinatin
 g insights. Harshat Lingam manages to make you laugh while prompting intro
 spection. \n\nViel Spass wünscht Gratis-in-Berlin\n\nLink zum Tip: \nZu den Gra
 tis-in-Berlin Angeboten: http://www.gratis-in-berlin.de\n
DTSTART;VALUE=DATE:20260224
DTEND;VALUE=DATE:20260225
SUMMARY:Curry Crisis : A Stand-up Comedy Solo Show in English | Schöneberg
END:VEVENT
END:VCALENDAR
