BEGIN:VCALENDAR
VERSION:2.0
PRODID:-//Gratis-in-Berlin//NONSGML kigkonsult.se iCalcreator 2.14//
METHOD:PUBLISH
X-WR-CALNAME:Gratis-in-Berlin Tip Kalender
X-WR-CALDESC:Erhalte Gratis-in-Berlin Tips in deinem Kalender
BEGIN:VEVENT
UID:20260419T122618UTC-4540lo8ne2@Gratis-in-Berlin
DTSTAMP:20260419T122618Z
DESCRIPTION:stand-up comedy show in english. great experienced comedians\, 
 cozy berlin bar with good and affordable drinks\n\nViel Spass wünscht Gratis-in
 -Berlin\n\nLink zum Tip: \nZu den Gratis-in-Berlin Angeboten: http://www.g
 ratis-in-berlin.de\n
DTSTART;VALUE=DATE:20260213
DTEND;VALUE=DATE:20260214
SUMMARY:stand-up comedy in english in friedrischain: Tiny Stage Comedy
END:VEVENT
END:VCALENDAR
