BEGIN:VCALENDAR
VERSION:2.0
PRODID:-//Gratis-in-Berlin//NONSGML kigkonsult.se iCalcreator 2.14//
METHOD:PUBLISH
X-WR-CALNAME:Gratis-in-Berlin Tip Kalender
X-WR-CALDESC:Erhalte Gratis-in-Berlin Tips in deinem Kalender
BEGIN:VEVENT
UID:20260421T091103UTC-1885v35Jw4@Gratis-in-Berlin
DTSTAMP:20260421T091103Z
DESCRIPTION:Einmal im Monat präsentiert CCB Langform-Improvisations-Comedy in
  deutscher Sprache. Nur ein Wort vom Publikum und unser Team aus deutschsp
 rachigen Improvisator*innen kreiert eine ganze Comedy-Show ? mit Szenen\, 
 die nicht geprobt sind\, noch nie gezeigt wurden und sich nie wiederholen 
 werden. Im Anschluss an die Show gibt es einen offenen Improvisations-Jam 
 auf Deutsch. Alle sind willkommen!\n\nViel Spass wünscht Gratis-in-Berlin\n\nLi
 nk zum Tip: https://www.gratis-in-berlin.de/naechste-monat/item/2077409-ue
 berschr\nZu den Gratis-in-Berlin Angeboten: http://www.gratis-in-berlin.de
 \n
DTSTART;VALUE=DATE:20260507
DTEND;VALUE=DATE:20260508
SUMMARY:Deutscher Improv Comedy Jam (Neukölln 21:30)
END:VEVENT
END:VCALENDAR
