BEGIN:VCALENDAR
VERSION:2.0
PRODID:-//Gratis-in-Berlin//NONSGML kigkonsult.se iCalcreator 2.14//
METHOD:PUBLISH
X-WR-CALNAME:Gratis-in-Berlin Tip Kalender
X-WR-CALDESC:Erhalte Gratis-in-Berlin Tips in deinem Kalender
BEGIN:VEVENT
UID:20260421T132520UTC-9857NEaoph@Gratis-in-Berlin
DTSTAMP:20260421T132520Z
DESCRIPTION:Steglitz ist ein Bezirk voller Geschichten ? manche laut\, manc
 he leise\, aber alle irgendwie besonders. In unserer neuen Impro-Show lass
 en wir uns von den Zetteln und Aushängen inspirieren\, die überall im Stadtbezirk
  zu finden sind: ?Zu verschenken!?\, ?Bitte nicht stören!?\, ?Hundehalter ges
 ucht!? ? Wer und was steckt hinter diesen Mitteilungen? Was passiert mit d
 en Menschen\, die sie hinterlassen haben? Wie geht ihre Geschichte weiter?
  Werden sie das finden\, was sie suchen? Oder wird alles ganz anders?Lass 
 Dich von uns entführen und erlebe eine unvergessliche Reise durch Steglitz\, di
 e Du so noch nie gesehen hast! Sei dabei und entdecke die vielen unbekannt
 en Seiten der Stadt ? improvisiert\, lebendig und voller Fantasie!  Reserv
 iere Dir gleich jetzt Dein Yes-Ticket für diesen spannenden Impro-Abend. Der Ei
 ntritt ist frei\, Spenden sind sehr herzlich willkommen. Nicht verpassen ?
  es wird großartig!  Spielort:&nbsp\;Schwartzsche Villa - Zimmertheater\, G
 runewaldstraße 55\,&nbsp\;12165 Berlin.https://www.berlin.de/ba-steglitz-ze
 hlendorf/auf-einen-blick/kultur/schwartzsche-villa/Die Villa liegt etwas z
 urückgesetzt hinter dem Rathaus Steglitz und in direkter Nähe zum S+U Rathaus Ste
 glitz.\n\nViel Spass wünscht Gratis-in-Berlin\n\nLink zum Tip: https://www.grat
 is-in-berlin.de/spaeter/item/2077893-adhoc-praesentiert-notizen-aus-stegli
 tz\nZu den Gratis-in-Berlin Angeboten: http://www.gratis-in-berlin.de\n
DTSTART;VALUE=DATE:20260627
DTEND;VALUE=DATE:20260628
SUMMARY:Adhoc präsentiert 'Notizen aus Steglitz'
END:VEVENT
END:VCALENDAR
