BEGIN:VCALENDAR
VERSION:2.0
PRODID:-//Gratis-in-Berlin//NONSGML kigkonsult.se iCalcreator 2.14//
METHOD:PUBLISH
X-WR-CALNAME:Gratis-in-Berlin Tip Kalender
X-WR-CALDESC:Erhalte Gratis-in-Berlin Tips in deinem Kalender
BEGIN:VEVENT
UID:20260419T170938UTC-6223iiXOUa@Gratis-in-Berlin
DTSTAMP:20260419T170938Z
DESCRIPTION:\n\nViel Spass wünscht Gratis-in-Berlin\n\nLink zum Tip: \nZu den Gr
 atis-in-Berlin Angeboten: http://www.gratis-in-berlin.de\n
DTSTART;VALUE=DATE:20260424
DTEND;VALUE=DATE:20260425
SUMMARY:Roast Battle Berlin #42 - Round 7 - English Comedy
END:VEVENT
END:VCALENDAR
