BEGIN:VCALENDAR
VERSION:2.0
PRODID:-//Gratis-in-Berlin//NONSGML kigkonsult.se iCalcreator 2.14//
METHOD:PUBLISH
X-WR-CALNAME:Gratis-in-Berlin Tip Kalender
X-WR-CALDESC:Erhalte Gratis-in-Berlin Tips in deinem Kalender
BEGIN:VEVENT
UID:20260419T184229UTC-78658DZocp@Gratis-in-Berlin
DTSTAMP:20260419T184229Z
DESCRIPTION:Puppenstück vom Puppentheater Fingerleicht nach Erich Kästner ? Pünktchen u
 nd Anton haben ein Geheimnis. Sie sind gut befreundet\, doch niemand darf 
 es wissen.Denn Pünktchen lebt im wohlhabenden Charlottenburg und ist Tochter ei
 nes Firmenchefs\, Anton hingegen wohnt mit seiner kranken Mutter im Weddin
 g und sorgt für das spärliche Familienbudget. Abends hilft Pünktchen Anton heimlich be
 im Streichholzverkaufen. Als sich schließlich ein Dieb in Pünktchens Zuhause sch
 leicht\, fliegt die ganze Sache auf. Den beiden droht ... vielleicht sogar
  ein Happy End. Ein Stück darüber\, wie Freundschaft Grenzen überwinden kann.\n\nViel Spa
 ss wünscht Gratis-in-Berlin\n\nLink zum Tip: \nZu den Gratis-in-Berlin Angebote
 n: http://www.gratis-in-berlin.de\n
DTSTART;VALUE=DATE:20260423
DTEND;VALUE=DATE:20260424
SUMMARY:Puppentheater Fingerleicht: Pünktchen und Anton
END:VEVENT
END:VCALENDAR
