BEGIN:VCALENDAR
VERSION:2.0
PRODID:-//Gratis-in-Berlin//NONSGML kigkonsult.se iCalcreator 2.14//
METHOD:PUBLISH
X-WR-CALNAME:Gratis-in-Berlin Tip Kalender
X-WR-CALDESC:Erhalte Gratis-in-Berlin Tips in deinem Kalender
BEGIN:VEVENT
UID:20260419T145149UTC-77275TMkrW@Gratis-in-Berlin
DTSTAMP:20260419T145149Z
DESCRIPTION:Pfeifen\, Klatschen\, erfundene Laute\, Rhythmen\, Codewörter ? wi
 e klingt Verbundenheit? Woran erkennen wir diejenigen\, die uns am meisten
  am Herzen liegen\, wenn wir nichts mehr sehen können?Diese Performance ist z
 um Mitmachen.Der Künstler Li Binyuan lädt Partner*innen\, Freund*innen\, Familien
 angehörige und alle Formen intimer Verbundenheit zu einem einzigartigen Ritua
 l ein. Für 30?45 Minuten betreten Sie einen gemeinsamen ?Platz?\, legen Augenbi
 nden an und navigieren ausschließlich anhand der Klänge\, die Sie miteinander
  teilen. Mittels derjenigen Geräusche\, die Sie nur mit Ihren Liebsten teile
 n\, versuchen Sie\, die Anwesenheit einer Person zu erkennen\, die Ihnen e
 twas bedeutet.Sie können gemeinsam mit einer Ihnen bekannten Person teilnehme
 n. Oder Sie treten allein ein und denken dabei an jemanden ? eine Partneri
 n in der Ferne\, einen geliebten Menschen\, der nicht mehr erreichbar ist\
 , eine Person\, an die Sie sich durch Stimme\, Rhythmus\, Akzent oder Stil
 le erinnern.Plaza stellt eine einfache Frage: Was bleibt von Intimität\, wen
 n das Sehen wegfällt?Gemeinsam verwandeln wir das Foyer des Humboldt Forums 
 in eine temporäre Plaza: einen Ort\, an dem private Erinnerungen öffentlich wer
 den\, an dem Akzente zu einer Form der Verwandtschaft werden und an dem da
 s stille Zuhören ein Gegengewicht zum visuellen Lärm der Gegenwart bildet.Intim
 ität kann über Entfernungen\, über Zeit und sogar durch Abwesenheit hinweg bestehen bl
 eiben. Der Körper erinnert sich oft früher an Verbindungen als die Sprache.Wir suc
 hen Teilnehmende:Sie können allein oder zu zweit teilnehmenBereitwilligkeit\,
  sich die Augen verbinden zu lassen und durch persönliche Klänge zu kommunizier
 enAlle Hintergründe\, Sprachen\, Generationen und Beziehungsformen sind willkom
 menPlaza ist eine leise Revolution ? eine Feier dessen\, wie tief wir eina
 nder kennen\, selbst ohne zu sehen. Machen Sie mit und gestalten Sie eine 
 lebendige Karte aus Klang\, Fürsorge und Verbundenheit.- Termine: 01.05.2026 11
 :00-11:45\, 12:00-12:45\; 02.05.2026&nbsp\;11:00-11:45\, 12:00-12:45\;- ko
 stenfrei- ab 6 Jahre- Foyer\, EG- Gehört zu: Beziehungsweise Familie\, Verber
 gen oder Erzählen?\n\nViel Spass wünscht Gratis-in-Berlin\n\nLink zum Tip: \nZu d
 en Gratis-in-Berlin Angeboten: http://www.gratis-in-berlin.de\n
DTSTART;VALUE=DATE:20260501
DTEND;VALUE=DATE:20260502
SUMMARY:Plaza - Eine partizipative Performance von Li Binyuan
END:VEVENT
END:VCALENDAR
