BEGIN:VCALENDAR
VERSION:2.0
PRODID:-//Gratis-in-Berlin//NONSGML kigkonsult.se iCalcreator 2.14//
METHOD:PUBLISH
X-WR-CALNAME:Gratis-in-Berlin Tip Kalender
X-WR-CALDESC:Erhalte Gratis-in-Berlin Tips in deinem Kalender
BEGIN:VEVENT
UID:20260423T113411UTC-5176Ntg0WW@Gratis-in-Berlin
DTSTAMP:20260423T113411Z
DESCRIPTION:nächstes Installment der beliebten Lustigkeit!&nbsp\;Datum: Mo.\,
  11. Mai\, 19:50Ort: Frollein Langnerhttps://www.eventbrite.com/e/kecko-co
 medy-open-mic-show-tickets-1987889335515\n\nViel Spass wünscht Gratis-in-Berlin
 \n\nLink zum Tip: \nZu den Gratis-in-Berlin Angeboten: http://www.gratis-i
 n-berlin.de\n
DTSTART;VALUE=DATE:20260511
DTEND;VALUE=DATE:20260512
SUMMARY:Kecko Comedy im Frollein Langner
END:VEVENT
END:VCALENDAR
