BEGIN:VCALENDAR
VERSION:2.0
PRODID:-//Gratis-in-Berlin//NONSGML kigkonsult.se iCalcreator 2.14//
METHOD:PUBLISH
X-WR-CALNAME:Gratis-in-Berlin Tip Kalender
X-WR-CALDESC:Erhalte Gratis-in-Berlin Tips in deinem Kalender
BEGIN:VEVENT
UID:20260423T160817UTC-46602zAvwB@Gratis-in-Berlin
DTSTAMP:20260423T160817Z
DESCRIPTION:Was du nie laut sagen würdest\, landet bei uns auf der Bühne.Du schreibst
  dein Geständnis anonym auf. Wir lesen es. Und spielen daraus Szenen.Keine v
 orbereiteten Witze oder sicheren Pointen. Nur das\, was da ist. Zart\, har
 t\, schräg. Manchmal trifft es dich unerwartet.Echte Geständnisse und Reaktion
 en.Du kannst einfach zuschauen. Dein Geheimnis. Unsere Bühne.Das und mehr alles
  entsteht vor euren Augen. Live. Ungefiltert Und im Moment.\n\nViel Spass 
 wünscht Gratis-in-Berlin\n\nLink zum Tip: \nZu den Gratis-in-Berlin Angeboten: 
 http://www.gratis-in-berlin.de\n
DTSTART;VALUE=DATE:20260511
DTEND;VALUE=DATE:20260512
SUMMARY:Geständnisse - Dein Geheimnis. Unsere Bühne.
END:VEVENT
END:VCALENDAR
