BEGIN:VCALENDAR
VERSION:2.0
PRODID:-//Gratis-in-Berlin//NONSGML kigkonsult.se iCalcreator 2.14//
METHOD:PUBLISH
X-WR-CALNAME:Gratis-in-Berlin Tip Kalender
X-WR-CALDESC:Erhalte Gratis-in-Berlin Tips in deinem Kalender
BEGIN:VEVENT
UID:20260423T193011UTC-9555u4Tuoz@Gratis-in-Berlin
DTSTAMP:20260423T193011Z
DESCRIPTION:Herzlich willkommen in der wohligen Welt der Dauerreflexion\, i
 n der jedes Problem eine ?Einladung? ist und jeder Satz mit ?Ich nehme wah
 r...? beginnt.Hier wird nicht mehr gestritten ? hier wird prozessiert. Und
  zwar so lange\, bis keiner mehr weiß\, worum es eigentlich ging.In dieser 
 Impro-Comedy-Show begegnen euch Coaches die euch zeigen\, wie ihr das Lebe
 n endlich richtig lebt. Selbstoptimierung wird zur Ersatzreligion und Spir
 itualität zur einzigen Persönlichkeit. Irgendwo zwischen Kakaozeremonie\, Kalen
 der Spruch und Fitness App.Wir spielen Figuren\, die so sehr bei sich sind
 \, dass sie niemand anderen mehr erreichen. Menschen\, die Grenzen setzen\
 , wo vorher einfach ein Gespräch gereicht hätte. Und Wahrheiten verkünden\, die vor
  allem eins sind: ziemlich bequem.Das und mehr alles entsteht vor euren Au
 gen. Live. Ungefiltert. Und im Moment.\n\nViel Spass wünscht Gratis-in-Berlin\n
 \nLink zum Tip: \nZu den Gratis-in-Berlin Angeboten: http://www.gratis-in-
 berlin.de\n
DTSTART;VALUE=DATE:20260608
DTEND;VALUE=DATE:20260609
SUMMARY:Spiritualität\, Coaching & Klamauk - Erleuchtung war noch nie so unan
 genehm
END:VEVENT
END:VCALENDAR
