BEGIN:VCALENDAR
VERSION:2.0
PRODID:-//Gratis-in-Berlin//NONSGML kigkonsult.se iCalcreator 2.14//
METHOD:PUBLISH
X-WR-CALNAME:Gratis-in-Berlin Tip Kalender
X-WR-CALDESC:Erhalte Gratis-in-Berlin Tips in deinem Kalender
BEGIN:VEVENT
UID:20260425T133254UTC-9681IdpNEc@Gratis-in-Berlin
DTSTAMP:20260425T133254Z
DESCRIPTION:Wer kennt denn schon Papiertheater??? -Ein Zimmertheater wie an
 no dunnemals\,-mit einer winzigen fernsehergroßen Bühne\, stimmungsvoll beleucht
 et\,-mit weihnachtlichen Kulissen und Akteuren-alles aus Papier\,- und mit
  einer Weihnachtsgeschichte von 'Frau Kaffeekanne und Herrn Kullerkeks'. E
 ine Augen-und Ohrenweide\,ganz gewiss nicht nur für Kinder! Allerdings muss man
  sich anmelden\, entweder auf www.papiertheater-an-der-oppermann.de oder d
 irekt per mail an papierwolf@freenet.de\, denn es gibt nur zwölf Plätze! Nur no
 ch am 23.12.2012 um 16.00 Uhr WUNDERVOLL!\n\nViel Spass wünscht Gratis-in-Berli
 n\n\nLink zum Tip: https://www.gratis-in-berlin.de/gratis-in-berlin/item/2
 007772-papiertheater\nZu den Gratis-in-Berlin Angeboten: http://www.gratis
 -in-berlin.de\n
DTSTART;VALUE=DATE:20121223
DTEND;VALUE=DATE:20121224
SUMMARY:Papiertheater: Die perfekte Einstimmung aufs Fest
END:VEVENT
END:VCALENDAR
