BEGIN:VCALENDAR
VERSION:2.0
PRODID:-//Gratis-in-Berlin//NONSGML kigkonsult.se iCalcreator 2.14//
METHOD:PUBLISH
X-WR-CALNAME:Gratis-in-Berlin Tip Kalender
X-WR-CALDESC:Erhalte Gratis-in-Berlin Tips in deinem Kalender
BEGIN:VEVENT
UID:20260422T162421UTC-5188VxtvLX@Gratis-in-Berlin
DTSTAMP:20260422T162421Z
DESCRIPTION:Fotoausstellung 'SPIRIT: India Street Photography' in der wunde
 rschönen AETHER:BAR in Neukölln. Die Fotografien zeigen eine Auswahl aus Arbeite
 n während eines längeren Aufenthaltes in Indien und umfassen Porträts und Szener
 ien der urbanen Stadtgesellschaften. Zentrales Thema ist die innere Ruhe d
 er Protagonisten innerhalb eines hektischen Stadtbilds und teilweise sehr 
 unbequemen Lebens.\n\nViel Spass wünscht Gratis-in-Berlin\n\nLink zum Tip: http
 s://www.gratis-in-berlin.de/kleinkunst/item/2031232-spirit-india-street-ph
 otography\nZu den Gratis-in-Berlin Angeboten: http://www.gratis-in-berlin.
 de\n
DTSTART;VALUE=DATE:20170519
DTEND;VALUE=DATE:20170612
SUMMARY:SPIRIT: India Street Photography
END:VEVENT
END:VCALENDAR
