BEGIN:VCALENDAR
VERSION:2.0
PRODID:-//Gratis-in-Berlin//NONSGML kigkonsult.se iCalcreator 2.14//
METHOD:PUBLISH
X-WR-CALNAME:Gratis-in-Berlin Tip Kalender
X-WR-CALDESC:Erhalte Gratis-in-Berlin Tips in deinem Kalender
BEGIN:VEVENT
UID:20260424T034219UTC-82333cD3fD@Gratis-in-Berlin
DTSTAMP:20260424T034219Z
DESCRIPTION:Wir laden Sie und Ihre Freunde in die Galerie B1 ein.Sonnabend\
 , 26. Mai 2018\, Beginn: 19:00 UhrAnnette Droste Hülshoff1797 ? 1848Gedichte Pr
 osa Briefe LiederRastlos treibts mich um im engen Leben\, und zu Boden drücken 
 Raum und Zeit\,Freiheit heißt der Seele banges Streben und im Busen tönts Unen
 dlichkeit.Rezitation: Jürgen Ebbing\, Flügel: Imelda Guraziu\, Gesang: Elke MemmerFür die
  Teilnahme ist eine verbindliche Anmeldung erforderlich (begrenzte Teilneh
 merzahl).Galerie B1Belziger Straße 1 | 10823 BerlinTelefon: +49 (0)30780014
 69http://galerie-b1.de\n\nViel Spass wünscht Gratis-in-Berlin\n\nLink zum Tip: 
 http://netstate.ru\nZu den Gratis-in-Berlin Angeboten: http://www.gratis-i
 n-berlin.de\n
DTSTART;VALUE=DATE:20180526
DTEND;VALUE=DATE:20180527
SUMMARY:Galerie B1 -Annette Droste Hülshoff -Gedichte Prosa Briefe Lieder 
END:VEVENT
END:VCALENDAR
