BEGIN:VCALENDAR
VERSION:2.0
PRODID:-//Gratis-in-Berlin//NONSGML kigkonsult.se iCalcreator 2.14//
METHOD:PUBLISH
X-WR-CALNAME:Gratis-in-Berlin Tip Kalender
X-WR-CALDESC:Erhalte Gratis-in-Berlin Tips in deinem Kalender
BEGIN:VEVENT
UID:20260420T080617UTC-1271vOb7hk@Gratis-in-Berlin
DTSTAMP:20260420T080617Z
DESCRIPTION:Tacos\, Tamales\, Tostadas\, Tequila ? probieren Sie auf dem Ma
 rkt im Foyer des HFs original mexikanische Spezialitäten!Kunsthandwerk und s
 üße Backwaren speziell zum Totenfest sind ein ideales Mitbringsel und Erinnerun
 gsstück. Wir laden ein zum Schlendern\, Schauen\, Schlemmen und Staunen.- Ort: 
 Foyer\, EG\n\nViel Spass wünscht Gratis-in-Berlin\n\nLink zum Tip: \nZu den Gra
 tis-in-Berlin Angeboten: http://www.gratis-in-berlin.de\n
DTSTART;VALUE=DATE:20231101
DTEND;VALUE=DATE:20231102
SUMMARY:Mercado Calaca e.V. - Schlemmen und Kunsthandwerk
END:VEVENT
END:VCALENDAR
