BEGIN:VCALENDAR
VERSION:2.0
PRODID:-//Gratis-in-Berlin//NONSGML kigkonsult.se iCalcreator 2.14//
METHOD:PUBLISH
X-WR-CALNAME:Gratis-in-Berlin Tip Kalender
X-WR-CALDESC:Erhalte Gratis-in-Berlin Tips in deinem Kalender
BEGIN:VEVENT
UID:20260422T084415UTC-9608oRUxWr@Gratis-in-Berlin
DTSTAMP:20260422T084415Z
DESCRIPTION:Die Künstler*innen von HIER &amp\; JETZT: Connections\, werden im Ra
 hmen der erweiterten Öffnungszeiten der Bibliotheken in Lichtenberg das Künstler
 buch OUT THERE präsentieren. OUT THERE ist eine visuelle und akustische Auss
 tellung\, die das Publikum einlädt\, künstlerische Beiträge zum Thema Stimme zu seh
 en und zu hören. Das Künstlerbuch ist eine Publikation von HIER &amp\; JETZT: Conn
 ections\, einem Austauschprojekt mit Künstler*innen im Exil mit Sitz in Lichten
 berg.Die Gestalter*innen aus der crosskulturellen Gemeinschaft werden anwe
 send sein\, um mit dem Publikum in Dialog zu treten.Kostenfreie Veranstalt
 ung ohne Anmeldung in der&nbsp\;Anton-Saefkow-Bibliothek.Im Rahmen der ver
 längerten Bibliotheksöffnungszeiten. Ermöglicht durch das Netzwerk der Wärme. Das Ne
 tzwerk der Wärme ist initiiert und finanziert vom Berliner Senat.\n\nViel Sp
 ass wünscht Gratis-in-Berlin\n\nLink zum Tip: https://www.gratis-in-berlin.de/k
 alender/item/2063876-praesentation-i-kuenstlerbuch-out-there\nZu den Grati
 s-in-Berlin Angeboten: http://www.gratis-in-berlin.de\n
DTSTART;VALUE=DATE:20231118
DTEND;VALUE=DATE:20231119
SUMMARY: Präsentation I Künstlerbuch OUT THERE
END:VEVENT
END:VCALENDAR
