BEGIN:VCALENDAR
VERSION:2.0
PRODID:-//Gratis-in-Berlin//NONSGML kigkonsult.se iCalcreator 2.14//
METHOD:PUBLISH
X-WR-CALNAME:Gratis-in-Berlin Tip Kalender
X-WR-CALDESC:Erhalte Gratis-in-Berlin Tips in deinem Kalender
BEGIN:VEVENT
UID:20260420T130255UTC-1954XNCw0j@Gratis-in-Berlin
DTSTAMP:20260420T130255Z
DESCRIPTION:In diesem Workshop betrachten wir den Mikrokosmos des einzigart
 igen Tempelhofer Feldes und tauchen künstlerisch in die faszinierende Welt der 
 Stadtnatur ein. Durch mentale und geistige Übungen werden wir unsere Naturv
 erbindung stärken\, unsere Sinne schärfen und die Stadtnatur als Ort der Entsc
 hleunigung erleben.Hier wird neben dem klassischen Botanisieren auch die K
 reativität angeregt\, indem Naturfarben und Zeichenmaterialien in direkter U
 mgebung entdeckt und verarbeitet werden.Sei dabei\, wenn wir die Stadtnatu
 r anders betrachten und neue Perspektiven entdecken. Lass dich von der Vie
 lfalt und Schönheit der Natur künstlerisch inspirieren und entdecke diesen Ort vol
 ler Farben und Kreativität.Wir freuen uns darauf\, gemeinsam mit dir kreativ
  zu werden und die wilden Ecken von Berlin künstlerisch-botanisch aufzuwerten.F
 ür Familien mit Kindern ab 8 Jahren\, Jugendliche und Erwachsene.Bitte mitbring
 en: Sitzkissen\, gerne können auch eigene Materialien wie Stifte oder Papier 
 mitgebracht werden.Anbieter: Campus Stadt Natur - Grün Berlin GmbHReferenten: K
 ristin HenselKosten: kostenfreiTreffpunkt: Haupteingang Herrfurthstraße\, I
 nfo Box\, 12049 Berlin(GPS-Koordinaten: 52°28'35.6'N 13°25'05.9'E)Anmeldung:
  erforderlich\n\nViel Spass wünscht Gratis-in-Berlin\n\nLink zum Tip: \nZu den 
 Gratis-in-Berlin Angeboten: http://www.gratis-in-berlin.de\n
DTSTART;VALUE=DATE:20240823
DTEND;VALUE=DATE:20240824
SUMMARY:Botanical Drawing - Experimentelles botanisches Zeichnen mit Naturm
 aterialien auf dem Feld
END:VEVENT
END:VCALENDAR
