BEGIN:VCALENDAR
VERSION:2.0
PRODID:-//Gratis-in-Berlin//NONSGML kigkonsult.se iCalcreator 2.14//
METHOD:PUBLISH
X-WR-CALNAME:Gratis-in-Berlin Tip Kalender
X-WR-CALDESC:Erhalte Gratis-in-Berlin Tips in deinem Kalender
BEGIN:VEVENT
UID:20260420T162239UTC-1190knCm82@Gratis-in-Berlin
DTSTAMP:20260420T162239Z
DESCRIPTION:Ausstellungstitel: Sounds of Bethany - 50 Jahre Künstlerhaus Bethani
 enOrt: Künstlerhaus Bethanien\, Kottbusser Str. 10\, 10999 BerlinTreffpunkt: am
  HaupteingangDas Künstlerhaus Bethanien Berlin feiert 2024 sein 50-jähriges Beste
 hen. Es war immer ein Ort des Experiments und der Innovation. Von Beginn a
 n gehörten Künstler:innen\, die mit dem Medium Klang arbeiten\, zu seinen Gästen. Da
 s Programm war stets geprägt von öffentlichen Ausstellungen\, Konzerten\, Perfo
 rmances und diskursiven Veranstaltungen. In vielen Bereichen kooperierten 
 die vor Ort in den Studios arbeitenden Gäste des Residenzprogramms mit Künstler:i
 nnen aus der Stadt. Gerade mit diesen experimentellen\, genreüberschreitenden P
 rojekten wurde das Künstlerhaus Bethanien zu einem der außergewöhnlichsten Kunstort
 e in Berlin und darüber hinaus.Was wäre angesichts dieser ästhetischen Praxis besse
 r geeignet\, das Jubiläum zu begehen\, als die In-Szene-Setzung von Klangere
 ignissen im Raum\, die gleichermaßen berührend und inspirierend wirken können und g
 leichzeitig ihre Immaterialität thematisieren. Die Ausstellung will zwei kla
 ngliche Zeitschichten erlebbar machen: Einerseits zeigt sie Klangskulpture
 n und Objekte von ehemaligen Ausstellenden und Residenzkünstler:innen (historis
 che Positionen) und andererseits präsentiert sie ganz neue oder neu-adaptier
 te Klanginstallationen\, die speziell für dieses Jubiläumsprojekt entwickelt wurd
 en.weitere Informationen unter&nbsp\;https://www.bethanien.de/exhibitions/
 sounds-of-bethany/Bei Rückfragen meldet euch gern bei stz-friedrichshain@volkss
 olidaritaet.de oder 030/403 66 11 27\n\nViel Spass wünscht Gratis-in-Berlin\n\n
 Link zum Tip: https://www.gratis-in-berlin.de/kleinkunst/item/2067839-geme
 insamer-ausstellungsbesuch\nZu den Gratis-in-Berlin Angeboten: http://www.
 gratis-in-berlin.de\n
DTSTART;VALUE=DATE:20240807
DTEND;VALUE=DATE:20240808
SUMMARY:gemeinsamer Ausstellungsbesuch
END:VEVENT
END:VCALENDAR
