BEGIN:VCALENDAR
VERSION:2.0
PRODID:-//Gratis-in-Berlin//NONSGML kigkonsult.se iCalcreator 2.14//
METHOD:PUBLISH
X-WR-CALNAME:Gratis-in-Berlin Tip Kalender
X-WR-CALDESC:Erhalte Gratis-in-Berlin Tips in deinem Kalender
BEGIN:VEVENT
UID:20260419T142233UTC-1712RKUZLn@Gratis-in-Berlin
DTSTAMP:20260419T142233Z
DESCRIPTION:Deny\, defend\, depose.Drei Worte\, drei Kugeln\, mit denen Lui
 gi Mangione mutmaßlich einen CEO einer US-amerikanischen Krankenversicherun
 g erschoss. Und damit ein krachendes Schlaglicht auf die Zustände im dortige
 n Gesundheitssystem warf. Wider Erwarten blieb der Aufschrei aus.Stattdess
 en erntete die Tat Zustimmung vor allem in den sozialen Medien. Außer bei d
 enjenigen\, die für die Misere verantwortlich sind. Thema dieser Veranstaltung 
 ist Angst als treibender Motor für die Zurichtungen im Kapitalismus. Neben Luig
 i werden Elon Musk und die AfD als Beispiele dafür herangezogen. Was die drei m
 iteinander zu tun haben\, erfahrt ihr an diesem Abend.\n\nViel Spass wünscht Gr
 atis-in-Berlin\n\nLink zum Tip: \nZu den Gratis-in-Berlin Angeboten: http:
 //www.gratis-in-berlin.de\n
DTSTART;VALUE=DATE:20250116
DTEND;VALUE=DATE:20250117
SUMMARY:Fällt leider aus wegen Krankheit! 'Merry Crisis and a Häppy New Fear' -
  Punkrock-Dramödie in drei Akten im RegenbogenKino
END:VEVENT
END:VCALENDAR
