BEGIN:VCALENDAR
VERSION:2.0
PRODID:-//Gratis-in-Berlin//NONSGML kigkonsult.se iCalcreator 2.14//
METHOD:PUBLISH
X-WR-CALNAME:Gratis-in-Berlin Tip Kalender
X-WR-CALDESC:Erhalte Gratis-in-Berlin Tips in deinem Kalender
BEGIN:VEVENT
UID:20260422T101527UTC-5032I8WhoW@Gratis-in-Berlin
DTSTAMP:20260422T101527Z
DESCRIPTION:Nach dem Zeichenkurs ist vor dem Illustrationskurs! In zwei Woc
 hen geht?s weiter: Illustrator Paetrick Schmidt zeigt euch\, wie spieleris
 ch und leicht kreative Ideen aufs Papier kommen. Seine kindlich-leichte He
 rangehensweise macht Lust aufs Ausprobieren ? perfekt für alle\, die neue Techn
 iken entdecken wollen!Wir treffen uns wieder am Elisabeet und starten geme
 insam ins nächste kreative Abenteuer. Material gibt?s vor Ort\, eigenes Equi
 pment ist natürlich auch willkommen.Sichert euch euren Platz und meldet euch an
  unter: openup@georg-georg.deWir freuen uns auf euch und eure Ideen!++Afte
 r one drawing class\, the next illustration adventure awaits! In just two 
 weeks\, illustrator Paetrick Schmidt will join us to show you how playful 
 and easy creative ideas can come to life on paper. His childlike approach 
 makes trying new techniques fun for everyone?perfect for anyone eager to e
 xplore illustration! We?ll meet again at Elisabeet and embark on a creativ
 e journey together. All materials are provided\, but feel free to bring yo
 ur own favorite tools. Reserve your spot now: openup@georg-georg.deWe can?
 t wait to see you and your ideas!\n\nViel Spass wünscht Gratis-in-Berlin\n\nLin
 k zum Tip: https://www.gratis-in-berlin.de/kleinkunst/item/2073538-illustr
 ationskurs-im-elisabeet\nZu den Gratis-in-Berlin Angeboten: http://www.gra
 tis-in-berlin.de\n
DTSTART;VALUE=DATE:20250715
DTEND;VALUE=DATE:20250716
SUMMARY:Illustrationskurs im Elisabeet
END:VEVENT
END:VCALENDAR
