BEGIN:VCALENDAR
VERSION:2.0
PRODID:-//Gratis-in-Berlin//NONSGML kigkonsult.se iCalcreator 2.14//
METHOD:PUBLISH
X-WR-CALNAME:Gratis-in-Berlin Tip Kalender
X-WR-CALDESC:Erhalte Gratis-in-Berlin Tips in deinem Kalender
BEGIN:VEVENT
UID:20260419T122527UTC-1489awNhtM@Gratis-in-Berlin
DTSTAMP:20260419T122527Z
DESCRIPTION:STANDSTILL&nbsp\;a.i.n. &amp\; Meltem Cetinoglu\nVernissage 27.
 9.\, 17 - 22 Uhr / Opening September 27th\, 2025\, 5 - 10 p.m.\n  Reguläre Öf
 fnungszeiten 28.9. - 10.10.\, 13 - 18 Uhr / Regular Opening Hours Septembe
 r 28th - October 10th\, 1 - 6 p.m.Finissage 11.10.\, 17 - 22 Uhr / Closing
  October 11\, 5 - 10 p.m.\n&nbsp\;&nbsp\;\n  (DE) Was geschieht in dem Aug
 enblick\, bevor ein Werk Gestalt annimmt? Wir laden Euch zu STANDSTILL ein
 . Eine intensive\, reflektierende und experimentelle Duo-Ausstellung\, die
  die rastlose Pause\, aus der die gezeigten Gemälde entstehen\, zum Leben er
 weckt. In diesem Raum ist Identität nicht festgelegt\; sie wird durch die Fo
 rmen und Bewegungen der Werke angedeutet\, verschattet und offenbart.Zwei 
 Kunstschaffende mit eigenen Stilen treffen in diesem fragilen Raum aufeina
 nder und verbinden sich durch ein gemeinsames Unbehagen und Offenheit. Sil
 houetten fangen Momente ein\, die nicht wieder aufgegriffen werden können\, r
 ufen aufgestaute Emotionen hervor\, während Schatten und Licht über die Formen wa
 ndern. Abstraktion bewegt sich unvorhersehbar\, wie ein Geist\, gefangen i
 n Aufregung und unwillkommenen Gedanken. Die Gemälde sind die konkreten Erge
 bnisse dieser Pause\, Ausdruck von Mut\, unruhiger Perspektive und kreativ
 er Energie.STANDSTILL ist nicht nur zum Betrachten da\; STANDSTILL soll be
 wohnt werden. Interaktive Werke laden Euch in dieses Spannungsfeld ein\, u
 m die Intensität und Energie zu spüren\, die das Schaffen der beiden antreibt.a.i
 .n. ist ein in Berlin lebender Künstler\, dessen Arbeit stark von Klang beeinfl
 usst ist ? seine Art\, Emotionen und die Vergangenheit zu verarbeiten\, al
 s Mittel zum Ausdruck des Unausgesprochenen. Diese ständigen Erinnerungen an
  die Abwesenheit von Stille und Frieden überlagern sich als Spiegelbild eines i
 nneren Kampfes mit einem Lärm\, der zugleich beruhigend und drängend ist.a.i.n
 . hat unter anderem in Berlin\, Seoul und Bangkok ausgestellt.Meltem Cetin
 oglu ist eine in Berlin lebende Künstlerin\, die Form und Wahrnehmung erforscht
 \, ohne sich auf Identität zu fixieren. Ihre Silhouetten veranschaulichen\, 
 wie wir in Beziehung zu anderen existieren und wie sich diese Erfahrungen 
 im Laufe der Zeit entwickeln\, ähnlich wie die Erinnerung selbst. Jedes Gemäld
 e fängt Erfahrungen ein und lädt bei jeder Betrachtung zu neuen Erkenntnissen 
 ein. Sie verbringt viel Zeit damit\, Menschen\, Räume und Emotionen zu beoba
 chten\, manchmal bis zur Überwältigung\, die in ihren Werken als dramatische 
 Kontraste von Licht und Schatten zum Ausdruck kommt. Meltem Cetinoglu hat 
 in Berlin ausgestellt\, unter anderem bei Denizen und der Litehaus Gallery
 ..(EN)&nbsp\;What happens in the instant before creation takes form? We in
 vite you to STANDSTILL. An intense\, reflective\, and experimental duo exh
 ibition bringing to life the restless pause from which the paintings come 
 into being.In this space\, identity is not fixed\; it is hinted at\, shado
 wed\, and revealed through the forms and movements within the works.Two ar
 tists\, each with a distinct style\, meet in this fragile space\, connecti
 ng through shared unease and openness. Silhouettes capture moments that ca
 nnot be revisited\, evoking unresolved emotions\, with shadows and light s
 hifting across the forms. Abstraction moves unpredictably\, like a mind ca
 ught in agitation and unwelcome thoughts. The paintings are the concrete o
 utcomes of this pause\, expressions of courage\, unsettled perspective\, a
 nd creative energy.STANDSTILL is not only to be observed\; it is meant to 
 be inhabited. Interactive works invite visitors to inhabit this tension\, 
 sensing the intensity and energy that drives creation.a.i.n. is a Berlin-b
 ased artist whose work is heavily influenced by sound and his way to proce
 ss emotions and the past as a tool to express the unspoken. Those constant
  reminders of the absence of silence and peace are layered upon each other
  as a reflection of a struggle with an inner noise\, which is calming and 
 pushing all at once.a.i.n has exhibited among others in Berlin\, Seoul\, a
 nd Bangkok.Meltem Cetinoglu is a Berlin-based artist who explores form and
  perception without fixating on identity. Her silhouettes illustrate how w
 e exist in relation to others and how these experiences evolve over time\,
  much like memory itself. Each painting captures experience\, inviting new
  insights with each viewing. She spends long periods observing people\, sp
 aces\, and emotions\, sometimes to the point of overwhelm\, which appears 
 in her work as dramatic contrasts of light and shadow. She has exhibited i
 n Berlin\, including at Denizen and Litehaus Gallery.\n\nViel Spass wünscht Gra
 tis-in-Berlin\n\nLink zum Tip: \nZu den Gratis-in-Berlin Angeboten: http:/
 /www.gratis-in-berlin.de\n
DTSTART;VALUE=DATE:20250927
DTEND;VALUE=DATE:20251012
SUMMARY:Standstill Kunstausstellung (täglich / open daily)
END:VEVENT
END:VCALENDAR
