BEGIN:VCALENDAR
VERSION:2.0
PRODID:-//Gratis-in-Berlin//NONSGML kigkonsult.se iCalcreator 2.14//
METHOD:PUBLISH
X-WR-CALNAME:Gratis-in-Berlin Tip Kalender
X-WR-CALDESC:Erhalte Gratis-in-Berlin Tips in deinem Kalender
BEGIN:VEVENT
UID:20260419T142357UTC-118218hGf5@Gratis-in-Berlin
DTSTAMP:20260419T142357Z
DESCRIPTION:- mit Sunna Huygen -Die Zeiten sind unsicher\, der Spaß ist vorb
 ei. Oder? Sunna nimmt ihr Publikum zum Lachen einfach mit in den Wald.Auch
  dort lauern patriarchales Unbehagen und undemokratische Umtriebe hinter m
 ancher Eiche.Trotzdem findet der Kabarettabend Wege durch das undurchdring
 liche Dickicht heutiger Identitätskrisen\, gesellschaftlicher Ängste und frag
 iler Freiheitsbegriffe. Wer sind wir und wer löscht\, wenn der Wald brennt?Is
 t es eine Untat\, untätig zu bleiben?Unterwegs kreuzen Ungestalten den Pfad.
  Sie sind (un)sympathisch und unerklären die Welt. Vielleicht bieten sie Unt
 erschlupf.Im Gepäck hat Sunna Feminismus\, Pointen und Poesie... und immer\,
  wenn es fies wird\, ertönt Unterhaltungsmusik.Zwischen Untergangszenarien un
 d ungezogenem Unkraut finden sich Möglichkeiten\, die Zukunft mitzugestalten.
  Mit Humor und Solidarität?Unbedingt!\n\nViel Spass wünscht Gratis-in-Berlin\n\nL
 ink zum Tip: \nZu den Gratis-in-Berlin Angeboten: http://www.gratis-in-ber
 lin.de\n
DTSTART;VALUE=DATE:20260207
DTEND;VALUE=DATE:20260208
SUMMARY:'Ungestalten // Politik & Poesie' - Kabarett im RegenbogenKino
END:VEVENT
END:VCALENDAR
