BEGIN:VCALENDAR
VERSION:2.0
PRODID:-//Gratis-in-Berlin//NONSGML kigkonsult.se iCalcreator 2.14//
METHOD:PUBLISH
X-WR-CALNAME:Gratis-in-Berlin Tip Kalender
X-WR-CALDESC:Erhalte Gratis-in-Berlin Tips in deinem Kalender
BEGIN:VEVENT
UID:20260419T171125UTC-0946pwo6bx@Gratis-in-Berlin
DTSTAMP:20260419T171125Z
DESCRIPTION:alexander bandilla führt den zuhörer in die zeit des ancien régime &amp\;
  der französischen revolution um 1789: texte von stefan zweig\, antonia frase
 r und léonard-alexis autié... betrachten den alltag im leben der letzten franz
 ösischen königin marie antoinette und ihres persönlichen umfeldes. dazu graphische 
 arbeiten von peter schulz leonhardt.bitte pünktlich kommen!\n\nViel Spass wünscht Gr
 atis-in-Berlin\n\nLink zum Tip: https://www.gratis-in-berlin.de/kalender/i
 tem/2077406-lesung-aufzeichnungen-aus-versailles\nZu den Gratis-in-Berlin 
 Angeboten: http://www.gratis-in-berlin.de\n
DTSTART;VALUE=DATE:20260222
DTEND;VALUE=DATE:20260223
SUMMARY:lesung: ' aufzeichnungen aus versailles'
END:VEVENT
END:VCALENDAR
