BEGIN:VCALENDAR
VERSION:2.0
PRODID:-//Gratis-in-Berlin//NONSGML kigkonsult.se iCalcreator 2.14//
METHOD:PUBLISH
X-WR-CALNAME:Gratis-in-Berlin Tip Kalender
X-WR-CALDESC:Erhalte Gratis-in-Berlin Tips in deinem Kalender
BEGIN:VEVENT
UID:20260419T130201UTC-7594vttxn9@Gratis-in-Berlin
DTSTAMP:20260419T130201Z
DESCRIPTION:Von Sonntag\, 01. März bis Samstag\, 28. März ist die Ausstellung ?
 Du bist nie zu kleinum groß zu träumen? mit Werken von Edith Smith zu sehen.D
 ie Vernissage mit Musik findet am 01. März um 14:00 Uhr statt.Weitere offene
 n Sonntag in Anwesenheit der Künstlerin sind am 15.03. und 22.03.26jeweils von 
 14:00 ? 17:00 Uhr.\n\nViel Spass wünscht Gratis-in-Berlin\n\nLink zum Tip: \nZu
  den Gratis-in-Berlin Angeboten: http://www.gratis-in-berlin.de\n
DTSTART;VALUE=DATE:20260301
DTEND;VALUE=DATE:20260329
SUMMARY:Ausstellung ?Du bist nie zu klein um groß zu träumen?                 
   
END:VEVENT
END:VCALENDAR
