BEGIN:VCALENDAR
VERSION:2.0
PRODID:-//Gratis-in-Berlin//NONSGML kigkonsult.se iCalcreator 2.14//
METHOD:PUBLISH
X-WR-CALNAME:Gratis-in-Berlin Tip Kalender
X-WR-CALDESC:Erhalte Gratis-in-Berlin Tips in deinem Kalender
BEGIN:VEVENT
UID:20260421T120240UTC-2136hMSGLd@Gratis-in-Berlin
DTSTAMP:20260421T120240Z
DESCRIPTION:Zum zweiten Mal veranstalten wir unseren Workshop ?Achtsames Kr
 itzeln' mit Kalligraphiepinseln und Tinte. In diesem kreativen Raum dürfen wir 
 frei und ohne Urteil kritzeln\, ganz im Moment\, ohne Erwartungen an ein f
 ertiges Ergebnis.Gemeinsam erkunden wir die Materialien und die Schönheit des
  abstrakten Ausdrucks auf Papier. Ziel ist es\, uns achtsamer und präsenter 
 zu machen\, mit weniger Selbstkritik und mehr Freude am Tun.Unser letzter 
 Workshop war voller Kreativität\, Ruhe und Verbindung und wir freuen uns dar
 auf\, dieses Erlebnis nochmal mit noch mehr von euch zu teilen.© Athina Kan
 onidou\n\nViel Spass wünscht Gratis-in-Berlin\n\nLink zum Tip: https://www.grat
 is-in-berlin.de/naechste-monat/item/2078102-mindful-doodling-achtsames-kri
 tzeln\nZu den Gratis-in-Berlin Angeboten: http://www.gratis-in-berlin.de\n
DTSTART;VALUE=DATE:20260503
DTEND;VALUE=DATE:20260504
SUMMARY:Mindful Doodling | Achtsames Kritzeln
END:VEVENT
END:VCALENDAR
