BEGIN:VCALENDAR
VERSION:2.0
PRODID:-//Gratis-in-Berlin//NONSGML kigkonsult.se iCalcreator 2.14//
METHOD:PUBLISH
X-WR-CALNAME:Gratis-in-Berlin Tip Kalender
X-WR-CALDESC:Erhalte Gratis-in-Berlin Tips in deinem Kalender
BEGIN:VEVENT
UID:20260421T133113UTC-9425DgSsVT@Gratis-in-Berlin
DTSTAMP:20260421T133113Z
DESCRIPTION:Sie hören lyrische italienische und romantische französische Arien\, 
 lebhafte Barockstücke und gefühlvolle russische Romanzen.Mit Anastasiia Malysheva\, 
 Ariana Gibbard\, Marina Samsonova und Viktor Skoblin.\n\nViel Spass wünscht Gra
 tis-in-Berlin\n\nLink zum Tip: https://www.gratis-in-berlin.de/aktueller-m
 onat/item/2078326-liederabend-konzert-mit-vokalmusik\nZu den Gratis-in-Ber
 lin Angeboten: http://www.gratis-in-berlin.de\n
DTSTART;VALUE=DATE:20260429
DTEND;VALUE=DATE:20260430
SUMMARY:Liederabend - Konzert mit Vokalmusik
END:VEVENT
END:VCALENDAR
