BEGIN:VCALENDAR
VERSION:2.0
PRODID:-//Gratis-in-Berlin//NONSGML kigkonsult.se iCalcreator 2.14//
METHOD:PUBLISH
X-WR-CALNAME:Gratis-in-Berlin Tip Kalender
X-WR-CALDESC:Erhalte Gratis-in-Berlin Tips in deinem Kalender
BEGIN:VEVENT
UID:20260421T073648UTC-7871RdsduV@Gratis-in-Berlin
DTSTAMP:20260421T073648Z
DESCRIPTION:Wir singen gemeinsam.Jeden 4. Mittwoch im Monat um 19 Uhr in de
 r Esmarchstraße 18 singen wir gemeinsam chassidische Melodien und tauchen s
 ingend in die gemeinsame Geschichte von Juden und Europäern ein. Vorkenntnis
 se sind nicht nötig. Wer Lust hat mitzusingen\, ist herzlich willkommen. Chas
 sidische Nign sind alte traditionelle Melodien im Judentum.AG Impro von Pr
 o Kiez Bötzowviertel e.V.\n\nViel Spass wünscht Gratis-in-Berlin\n\nLink zum Tip: 
 https://www.gratis-in-berlin.de/kleinkunst/item/2078332-der-soul-der-chass
 idischen-melodien\nZu den Gratis-in-Berlin Angeboten: http://www.gratis-in
 -berlin.de\n
DTSTART;VALUE=DATE:20260422
DTEND;VALUE=DATE:20260423
SUMMARY:Der Soul der chassidischen Melodien
END:VEVENT
END:VCALENDAR
