BEGIN:VCALENDAR
VERSION:2.0
PRODID:-//Gratis-in-Berlin//NONSGML kigkonsult.se iCalcreator 2.14//
METHOD:PUBLISH
X-WR-CALNAME:Gratis-in-Berlin Tip Kalender
X-WR-CALDESC:Erhalte Gratis-in-Berlin Tips in deinem Kalender
BEGIN:VEVENT
UID:20260421T134547UTC-9233mUn05E@Gratis-in-Berlin
DTSTAMP:20260421T134547Z
DESCRIPTION:?Der kleine Wassermann- Frühling im Mühlenweiher?mit dem Kinderchor SingS
 alaSing!Lieder zum Thema Frühling und WasserweltLeitung: Katharina Löwe\n\nViel Sp
 ass wünscht Gratis-in-Berlin\n\nLink zum Tip: \nZu den Gratis-in-Berlin Angebot
 en: http://www.gratis-in-berlin.de\n
DTSTART;VALUE=DATE:20260429
DTEND;VALUE=DATE:20260430
SUMMARY:Musikalisches Bilderbuchkino: 'Der kleine Wassermann - Frühling im Mühlenweih
 er'
END:VEVENT
END:VCALENDAR
