BEGIN:VCALENDAR
VERSION:2.0
PRODID:-//Gratis-in-Berlin//NONSGML kigkonsult.se iCalcreator 2.14//
METHOD:PUBLISH
X-WR-CALNAME:Gratis-in-Berlin Tip Kalender
X-WR-CALDESC:Erhalte Gratis-in-Berlin Tips in deinem Kalender
BEGIN:VEVENT
UID:20260421T141911UTC-3166bjfhpM@Gratis-in-Berlin
DTSTAMP:20260421T141911Z
DESCRIPTION:Die Eisheiligen sind überstanden\, jetzt beginnt die Zeit der vielfält
 igen Sommerpflanzen. Hast du den Platz auf deinem Balkon überschätzt ? oder die F
 arbe der Blüten passt doch nicht zum Sonnenschirm? Hat deine Grünlilie dich mit zu v
 ielen Ablegern überrascht? Tausche mit Gleichgesinnten Pflanzen\, Setzlinge\, A
 bleger ? und dein Know-How.Wir begleiten euch mit Büchern\, einem kleinen Quiz\
 , Snacks und Getränken durch die grüne(n) Stunde(n) in der Bibliothek!30. Mai 202
 6 // 13-15 Uhr- Stadtteilbibliothek Friedrich von Raumer- Eintritt frei- o
 hne Anmeldung\n\nViel Spass wünscht Gratis-in-Berlin\n\nLink zum Tip: \nZu den 
 Gratis-in-Berlin Angeboten: http://www.gratis-in-berlin.de\n
DTSTART;VALUE=DATE:20260530
DTEND;VALUE=DATE:20260531
SUMMARY:Grüner Plausch beim Pflanzentausch
END:VEVENT
END:VCALENDAR
