BEGIN:VCALENDAR
VERSION:2.0
PRODID:-//Gratis-in-Berlin//NONSGML kigkonsult.se iCalcreator 2.14//
METHOD:PUBLISH
X-WR-CALNAME:Gratis-in-Berlin Tip Kalender
X-WR-CALDESC:Erhalte Gratis-in-Berlin Tips in deinem Kalender
BEGIN:VEVENT
UID:20260421T155556UTC-9935HvWI6j@Gratis-in-Berlin
DTSTAMP:20260421T155556Z
DESCRIPTION:Die Plattform für poetische Bildung latinale.académica 2026 bietet am 
 21. Mai einen Workshop mit anschließender Lesung zum Thema Atem\, Luft und 
 Stimme an. Im Zentrum steht die ?Oda al aire? (Ode an die Luft) von Pablo 
 Neruda. Dieses Gedicht ist über 70 Jahre alt\, aber überaus aktuell. Es soll deswege
 n übersetzt werden ? in einem Preview auf die Buchmesse Frankfurt 2027\, deren 
 Ehrengast das Land Chile ist. Die aus dem Workshop resultierende deutsche 
 Fassung der Ode wird anschließend vorgestellt.Der Workshop findet im Zusamm
 enhang einer Vorlesung zur lateinamerikanischen Poesie statt. Auch Interes
 sierte jenseits der Vorlesung (oder eines regulären Studiums) sind mit Nachd
 ruck eingeladen! Sprachkenntnisse dürfen divers sein. Selbst eine Teilnahme ohn
 e Spanischkenntnisse ist möglich!21. Mai 2026 // 15-18 Uhr- Bezirkszentralbib
 liothek Pablo Neruda- Eintritt frei- Anmeldung bis 15. Mai an rike.bolte@h
 u-berlin.deMit Manuela Barney Seidel\, Rike Bolte und Camilo del Valle Lat
 tanzio. Außerdem: Fede Llera\, Martín Felipe Castagnet\, Camilo del Valle Let
 anzio\, Ana Clara Chirdo\, Carmen Elisa Escobar sowie Studierende der Humb
 oldt-Universität. Dazu ein Ehrengast (Überraschung)In Kooperation mit der Hum
 boldt-Universität und Netzwerk Lyrik.\n\nViel Spass wünscht Gratis-in-Berlin\n\nL
 ink zum Tip: \nZu den Gratis-in-Berlin Angeboten: http://www.gratis-in-ber
 lin.de\n
DTSTART;VALUE=DATE:20260521
DTEND;VALUE=DATE:20260522
SUMMARY:Aeropoéticas: Ode an die Luft (Workshops & Lesung)
END:VEVENT
END:VCALENDAR
