BEGIN:VCALENDAR
VERSION:2.0
PRODID:-//Gratis-in-Berlin//NONSGML kigkonsult.se iCalcreator 2.14//
METHOD:PUBLISH
X-WR-CALNAME:Gratis-in-Berlin Tip Kalender
X-WR-CALDESC:Erhalte Gratis-in-Berlin Tips in deinem Kalender
BEGIN:VEVENT
UID:20260425T151734UTC-4564Dlvcui@Gratis-in-Berlin
DTSTAMP:20260425T151734Z
DESCRIPTION:Immer mittwochs  9. Januar um 19 Uhr De Caravana (Clubbing) Arg
 entinien 2010\, 100 Min.\, OmenglUT Regie und Drehbuch: ROSENDO RUIZ Darst
 eller: Francisco Colja\, Yohana Pereyra MartA­n\, Rena Rodrigo Savina Im Mi
 ttelpunkt dieser rasanten schwarzen Komodie steht der Fotograf Juan Cruz\,
  dessen Leben von einem Tag auf den anderen zu einem einzigen Adrenalintri
 p wird. Alles beginnt mit ei nem Konzert. Juan soll dort im Auftrag seiner
  Agentur Fotos machen. Im Gedrange lernt er Sara kennen und ist hin und we
 g. Doch Sara ist nicht allein\, ihre beiden Mitbewohner\, ein philosophier
 ender Kleinstadt- ganove und eine mu?tterliche Transe\, weichen ihr kaum v
 on der Seite. Und schon steckt Juan bis zum Hals in der lokalen Mafiaszene
  und stu?rzt von einem Schlamassel in den nachsten. Der Film lief u.a. auf
  dem Festival Lateinamerikanischer Film Toulouse 2011\, Filmfest Hamburg 2
 011 und dem Film Festival Warschau 2011.  16. Januar um 19 Uhr El Cuarto d
 e Leo (Leo und die Liebe) Uruguay 2009\, 94 Min.\, OmenglUT Regie und Dreh
 buch: ENRIQUE BUCHICHIO Darsteller: MartA­n RodrA­guez\, Cecilia CA³sero\, Ge
 rardo Begérez\, Arturo Goetz Leo ist ein standig unzufriedener und missmutig
 er junger Mann\, der sich offenbar bemu?ht\, ein Leben zu fu?hren\, das er
  im Grunde nicht mag. Wahrend er noch mitten in diesem Prozess der Suche\,
  des Akzeptierens seines eigenen Charakters und der sexuellen Selbstfindun
 g steckt\, trifft er Caro wieder\, eine Kinderliebe aus der Grundschule\, 
 die jetzt ihre eigene personliche Krise durchlauft. Er entdeckt wahrenddes
 sen\, welche Art von Beziehung er wirklich gerne hatte. -zLeo und die Lieb
 e- wurde in Uruguay und auf dem Filmfestival in Toulouse ausgezeichnet\, b
 eim 7. Festival von Bilbao und dem Filmfestival von Turin.  23. Januar um 
 19 Uhr As Melhores Coisas do Mundo (Die besten Dinge der Welt) Brasilien 2
 010\, 107 Min.\, OmenglUT Regie: LAAS BODANZKY Darsteller: Deni se Fraga\,
  Paulo Vilhena\, Caio Blat\, José Carlos Machado\, Gustavo Machado Der 15-ja
 hrige Hermano\, von allen Mano genannt\, lebt in SA£o Paulo und ist ein ric
 htiger Großstadtjunge ? kein Kind mehr\, aber auch noch nicht erwachsen. Er
  spielt Gitarre\, liebt Partys\, flirtet mit Madchen\, hat viele Freunde\,
  sein Leben konnte nicht besser sein. Ein Ereignis in seiner Familie macht
  ihm jedoch deutlich\, dass das Erwachsenwerden nicht immer einfach ist. S
 ein Vater verlasst die Familie\, allerdings nicht wegen einer anderen Frau
 \, sondern weil er nun mit einem Mann zusammenleben will. Das Verhaltnis z
 u den Eltern\, zu seinen Schulkameraden\, die Entdeckung der Liebe\, Vorur
 teile und Unsicherheiten sind plotzlich neue Herausforderungen. 2011 wurde
  der Film beim VIII Festival Internacional de Cine para la Infancia y la J
 uventud (FICI 2011) in Madrid ausgezeichnet.  Um Anmeldung wird gebeten: c
 ultural.berlim@itamaraty.gov.br\n\nViel Spass wünscht Gratis-in-Berlin\n\nLink 
 zum Tip: \nZu den Gratis-in-Berlin Angeboten: http://www.gratis-in-berlin.
 de\n
DTSTART;VALUE=DATE:20130109
DTEND;VALUE=DATE:20130110
SUMMARY:Filmreihe in der Brasilianischen Botschaft
END:VEVENT
END:VCALENDAR
