BEGIN:VCALENDAR
VERSION:2.0
PRODID:-//Gratis-in-Berlin//NONSGML kigkonsult.se iCalcreator 2.14//
METHOD:PUBLISH
X-WR-CALNAME:Gratis-in-Berlin Tip Kalender
X-WR-CALDESC:Erhalte Gratis-in-Berlin Tips in deinem Kalender
BEGIN:VEVENT
UID:20260419T130631UTC-6556RjpwMi@Gratis-in-Berlin
DTSTAMP:20260419T130631Z
DESCRIPTION:Der Himmel über Berlin D/F 1987 - Spielfilm - 128 Minuten - Regie: W
 im Wenders - Texte: Peter Handke - Kamera: Henri Alekan - Musik: Jürgen Knieper
 \, Laurent Petitgand\, Nick Cave\, Crime and The City Solution - Schnitt: 
 Peter Przygodda - mit Bruno Ganz\, Solveig Dommartin\, Otto Sander\, Curt 
 Bois\, Peter Falk\, Hanns Zischler Dass nur noch zwei Jahre bis zum Fall d
 er Berliner Mauer verbleiben würden\, war 1987 schwer vorstellbar. Als Wim Wend
 ers im selben Jahr seinen Himmel über Berlin drehte\, stand sie noch felsenfest
 . Nur Engel konnten sie ungehindert passieren - denn die materielle Welt e
 xistiert für sie nicht. Erst als sich Damiel\, einer dieser über Berlin schwebenden\
 , ätherischen Wesen\, in eine Frau verliebt\, gewinnen Gebäude\, Straßen\, Mens
 chen für ihn Kontur\, Farbe und Geruch. Allerdings wird er durch seinen Übertrit
 t auch sterblich. Dieser Preis scheint ihm angemessen. ?Der Himmel über Berlin?
  ist ein Phänomen: teilweise fast dokumentarisch den West-Berliner Biotop je
 ner Zeit einfangend\, teilweise hemmungslos schwelgend im Märchenhaften\, sp
 iegelt der Film doch auf einmalige Weise eine für immer verschwundene Befindlic
 hkeit. Das traumwandlerische Spiel von Sander und Ganz\, die Musik von Nic
 k Cave oder Crime and The City Solution\, nicht zuletzt die Texte von Pete
 r Handke - die scheinbar heterogenen Momente des Films vereinen sich zu ei
 nem einzigartigen Mosaik. Wenn die Kamera in einer Szene zwanglos durch di
 e Mauer zwischen West- und Ost-Berlin fährt\, so findet zumindest dieses Wun
 der im Nachhinein eine irdische Erklärung: Der DEFA-Kameramann Thomas Plener
 t nahm heimlich die Aufnahmen im Osten vor\, Hanns Zischler schmuggelte da
 s Filmmaterial anschließend in den Westen.\n\nViel Spass wünscht Gratis-in-Berli
 n\n\nLink zum Tip: https://www.gratis-in-berlin.de/heute/item/2045118-der-
 himmel-ueber-berlin\nZu den Gratis-in-Berlin Angeboten: http://www.gratis-
 in-berlin.de\n
DTSTART;VALUE=DATE:20191015
DTEND;VALUE=DATE:20191016
SUMMARY:Der Himmel über Berlin
END:VEVENT
END:VCALENDAR
