BEGIN:VCALENDAR
VERSION:2.0
PRODID:-//Gratis-in-Berlin//NONSGML kigkonsult.se iCalcreator 2.14//
METHOD:PUBLISH
X-WR-CALNAME:Gratis-in-Berlin Tip Kalender
X-WR-CALDESC:Erhalte Gratis-in-Berlin Tips in deinem Kalender
BEGIN:VEVENT
UID:20260419T155704UTC-8443CoUoth@Gratis-in-Berlin
DTSTAMP:20260419T155704Z
DESCRIPTION:Zwischenwelten ? Migration im Film ?Einhundertvier?English mit 
 dt. UntertitelnBesonderes Highlight: Der Regisseur des Films Jonathan Schörni
 g und der Darsteller des Kapitäns Martin Ernst kommen als Gäste zur VorführungÜber d
 en Film:Wie eine Seenotrettung ablaufen kann\, übersteigt jegliche Vorstellungs
 kraft. Die Echtzeitdokumentation ?Einhundertvier? bringt diese dramatische
  Situation näher. Der Film zeigt wie quälend lange es dauert\, 104 Personen vo
 n einem sinkenden Schlauchboot zu bergen.Wir laden alle Interessierten\, i
 nsbesondere Menschen mit Migrationshintergrund\, zum gemeinsamen Kino und 
 zu Diskussionen ein!Eintritt frei\, ohne AnmeldungOrt: Theater-Raum\n\nVie
 l Spass wünscht Gratis-in-Berlin\n\nLink zum Tip: https://www.gratis-in-berlin.
 de/kino/item/2059697-inselkino-im-stadtteilzentrum-kreativhaus\nZu den Gra
 tis-in-Berlin Angeboten: http://www.gratis-in-berlin.de\n
DTSTART;VALUE=DATE:20260426
DTEND;VALUE=DATE:20260427
SUMMARY:InselKino im Stadtteilzentrum Kreativhaus
END:VEVENT
END:VCALENDAR
