BEGIN:VCALENDAR
VERSION:2.0
PRODID:-//Gratis-in-Berlin//NONSGML kigkonsult.se iCalcreator 2.14//
METHOD:PUBLISH
X-WR-CALNAME:Gratis-in-Berlin Tip Kalender
X-WR-CALDESC:Erhalte Gratis-in-Berlin Tips in deinem Kalender
BEGIN:VEVENT
UID:20260422T121656UTC-35342FSVMU@Gratis-in-Berlin
DTSTAMP:20260422T121656Z
DESCRIPTION:? 62 min. / Deutsch / Deutschland 2022 | Regie: Johanna Schellh
 agen ?Seit Beginn der UN-Klimakonferenzen im Jahr 1992 sind die jährlichen C
 O2-Emissionen nicht zurückgegangen. Vielmehr haben sie um über 60 % zugenommen. ? Wa
 rum?Und vor allem: Wie können wir den Klimawandel aufhalten?In der globalen K
 limabewegung setzt sich mehr und mehr die Erkenntnis durch\, dass es so ni
 cht weitergehen kann und dass wir einen Systemwechsel brauchen.In ?Der lau
 te Frühling? schauen wir mit Hilfe von animierten Sequenzen in die Zukunft und 
 beschreiben\, wie jene tiefgreifende gesellschaftliche Transformation\, di
 e wir brauchen\, aussehen könnte.Das Gespräch mit Johanna Schellhagen moderiert
  Elisabeth Voß(NETZ BB).\n\n*******\nNach dem Film findet ein Gespräch mit de
 r Filmemacherin statt.Der Eintritt ist frei\, Spenden sind erwünscht. Eine Vera
 nstaltungsreihe des NETZ für Selbstverwaltung und Kooperation Berlin-Brandenbur
 g e.V. in Kooperation mit docfilm42 e.V.&nbsp\;\n\n- gefördert durch die Stif
 tung Menschenwürde und Arbeitswelt\n\n\nViel Spass wünscht Gratis-in-Berlin\n\nLink 
 zum Tip: \nZu den Gratis-in-Berlin Angeboten: http://www.gratis-in-berlin.
 de\n
DTSTART;VALUE=DATE:20231120
DTEND;VALUE=DATE:20231121
SUMMARY:Filmreihe zum Thema 'Arbeit': 'Der laute Frühling - ' - im RegenbogenKin
 o
END:VEVENT
END:VCALENDAR
