BEGIN:VCALENDAR
VERSION:2.0
PRODID:-//Gratis-in-Berlin//NONSGML kigkonsult.se iCalcreator 2.14//
METHOD:PUBLISH
X-WR-CALNAME:Gratis-in-Berlin Tip Kalender
X-WR-CALDESC:Erhalte Gratis-in-Berlin Tips in deinem Kalender
BEGIN:VEVENT
UID:20260420T161238UTC-5737Fu2CX1@Gratis-in-Berlin
DTSTAMP:20260420T161238Z
DESCRIPTION:Chinesischer Filmabend im Chinesischen Kulturzentrum BerlinFilm
 vorführung ?Hsuan-Tsang of the Tang Dynasty?Regie: Huo JianqiDauer: 120 Min.Spr
 ache: Chinesisch\, mit englischem UntertitelZeit: Donnerstag\, 16.11.2023\
 , 18:30 UhrOrt: Chinesisches Kulturzentrum Berlin\, Klingelhöferstr. 21\, 107
 85 BerlinEintritt frei und ohne Anmeldung.Das Chinesische Kulturzentrum Be
 rlin zeigt am Abend des 16.11.2023 den Film ?Hsuan-Tsang of the Tang Dynas
 ty ?\, einen Historienfilm mit Huang Xiaoming\, Xu Zheng und Zhao Wenxuan 
 in den Hauptrollen\, Regie führte Huo Jianqi. Der Film erzählt die legendäre Geschi
 chte von Xuanzang\, dem berühmten Mönch aus der chinesischen Tang-Dynastie\, der v
 or mehr als 1.300 Jahren allen Gefahren und Schwierigkeiten trotzend nach 
 Tianzhu (antike chinesische Bezeichnung für Indien) reiste. Siebzehn Jahre lang
  studierte er dort buddhistische Schriften. Der Film gewann unter anderem 
 auf dem 13. Chinesischen Filmfestival in Changchun die Auszeichnung für den bes
 ten chinesischsprachigen Spielfilm sowie den Preis für den besten Spielfilm bei
  den 17. China Film Huabiao Awards.Inhalt:In dem Film wird die legendäre Ges
 chichte aus dem Leben des bedeutenden Mönchs Xuanzang erzählt\, der zur Zeit de
 r Tang-Dynastie siebzehn Jahre seines Lebens darauf verwandte\, trotz alle
 r Strapazen nach Indien zu reisen\, um dort religiöse Lehren zu studieren. Währ
 end der Regierungszeit des Kaisers Li Shimin\, die als Blütezeit der Tang-Dynas
 tie gilt\, verlässt der junge Mönch Xuanzang (gespielt von Huang Xiaoming) tode
 smutig sein Land\, um nach dem wahren Sinn des Buddhismus zu suchen. Auf s
 einer Reise stößt er auf zahlreiche Hindernisse\, Naturkatastrophen und von M
 enschen erzeugtes Leid. Xuanzang bleibt dabei unerschütterlich und widmet sich 
 von ganzem Herzen der Suche nach dem buddhistischen Dharma. Schließlich err
 eicht er Indien\, wo er seine Studien fortsetzt und über den Buddhismus meditie
 rt. Als er schließlich\, viele Erfahrungen reicher\, nach China zurückkehrt\, is
 t er über fünfzig Jahre alt. Er bringt nicht nur eine große Menge buddhistischer Schr
 iften aus Indien nach China\, sondern er verbreitet auch Wissen über die Zivili
 sation der blühenden Tang-Dynastie in den auf seinem Weg liegenden Ländern.\n\nVi
 el Spass wünscht Gratis-in-Berlin\n\nLink zum Tip: \nZu den Gratis-in-Berlin An
 geboten: http://www.gratis-in-berlin.de\n
DTSTART;VALUE=DATE:20231116
DTEND;VALUE=DATE:20231117
SUMMARY:Chinesischer Filmabend: ?Hsuan-Tsang of the Tang Dynasty?
END:VEVENT
END:VCALENDAR
