BEGIN:VCALENDAR
VERSION:2.0
PRODID:-//Gratis-in-Berlin//NONSGML kigkonsult.se iCalcreator 2.14//
METHOD:PUBLISH
X-WR-CALNAME:Gratis-in-Berlin Tip Kalender
X-WR-CALDESC:Erhalte Gratis-in-Berlin Tips in deinem Kalender
BEGIN:VEVENT
UID:20260419T153041UTC-18801o61Cc@Gratis-in-Berlin
DTSTAMP:20260419T153041Z
DESCRIPTION:Weibliche Filmschaffende haben oft noch keinen eigenen deutschs
 prachigen Wikipedia-Artikel\, wodurch sie digital weniger sichtbar sind. A
 m Eröffnungswochenende der Berlinale rufen deswegen engagierte Aktive des Wik
 ipedia-Projekts WomenEdit gemeinsam mit Wikimedia Deutschland (Film-)Inter
 essierte dazu auf\, sich an einem Edit-a-thon\, einer Schreibwerkstatt\, z
 u beteiligen. Das Ziel ist: So viele weibliche Filmschaffende wie möglich sol
 len einen eigenen Wikipedia-Artikel bekommen.Der Edit-a-thon findet in der
  Geschäftsstelle von Wikimedia Deutschland in Berlin statt. Die Veranstaltun
 g ist offen für Teilnehmende aller Geschlechter ? Wikipedia-Vorkenntnisse sind 
 nicht nötig. Vor Ort zeigen erfahrene Wikipedianerinnen\, wie das Editieren i
 n der Wikipedia funktioniert und wie neue Artikel über Filmfrauen angelegt und 
 Fotos hochgeladen werden können. Wer bereits über einen Wikipedia-Account verfügt\, bit
 te im Abschnitt Teilnehmer*innen eintragen.Die Teilnahme am Edit-a-thon is
 t kostenlos.Bitte Laptop oder Tablet mitbringen. Einige wenige Leihrechner
  gibt es vor Ort. Bitte bei der Anmeldung anmerken\, wenn du einen benötigst.
 Wikipediavorkenntnisse sind erwünscht\, jedoch nicht notwendig (es wird eine Ei
 nführung geben).Wann?Freitag\, 13. Februar\, 18:30 bis&nbsp\;Sonntag\, 15. Febr
 uar\, 15:00Wo?Wikimedia Deutschland\, Raum ?Mosaik?\, Tempelhofer Ufer 23\
 , 10961 Berlin-Kreuzberg (U1\, U3\, U7 Möckernbrücke). Das Kennenlernen am Freitag
  Abend findet in einem Restaurant statt\, Infos dazu werden bei der Anmeld
 ung zugeschickt.\n\nViel Spass wünscht Gratis-in-Berlin\n\nLink zum Tip: \nZu d
 en Gratis-in-Berlin Angeboten: http://www.gratis-in-berlin.de\n
DTSTART;VALUE=DATE:20260213
DTEND;VALUE=DATE:20260216
SUMMARY:Berlinale Edit-a-thon - Sichtbarkeit für weibliche Filmschaffende
END:VEVENT
END:VCALENDAR
