BEGIN:VCALENDAR
VERSION:2.0
PRODID:-//Gratis-in-Berlin//NONSGML kigkonsult.se iCalcreator 2.14//
METHOD:PUBLISH
X-WR-CALNAME:Gratis-in-Berlin Tip Kalender
X-WR-CALDESC:Erhalte Gratis-in-Berlin Tips in deinem Kalender
BEGIN:VEVENT
UID:20260422T115913UTC-3139dmiVwE@Gratis-in-Berlin
DTSTAMP:20260422T115913Z
DESCRIPTION:5 Jahre Campus-Kino: Filme in der Stasi-Zentrale(Open Air 5.8. 
 bis 29.8.2024)Von Montag\, 5. August\, bis Donnerstag\, 29. August 2024\, 
 wird der Innenhof der 'Stasi-Zentrale. Campus für Demokratie' auch diesen Somme
 r zur Open-Air-Spielstätte: Das Campus-Kino präsentiert vier Wochen lang Filme
  zu DDR-Vergangenheit\, Staatssicherheit\, Archiv und Aufklärung.Alle Filme 
 sind nach 1989 produziert und thematisieren Repression\, Revolution oder A
 ufarbeitung. Sie wecken Erinnerungen oder geben Raum für die Fragen von jungen 
 Menschen. Am historischen Ort\, vor der Kulisse von Stasi-Minister Mielkes
  ehemaligem Dienstsitz\, lässt sich zur Aktualität der Vergangenheit ins Gespr
 äch kommen.Die abendliche Vorführung startet mit Material aus dem Stasi-Unterlage
 n-Archiv. Hinterher besteht die Gelegenheit\, sich mit Filmschaffenden\, F
 achleuten sowie Zeitzeuginnen und Zeitzeugen auszutauschen. Begleitend gib
 t es ein vielfältiges Rahmenprogramm mit Ausstellungen und Führungen zum Thema de
 s Abends. Detaillierte Informationen finden Sie auf der jeweiligen Termins
 eite.Der Eintritt ist frei. Eine Anmeldung ist nicht erforderlich\, außer f
 ür die Führungen.'Schleimkeim - Otze und die DDR von unten'Fesselnder Dokumentarfilm
  über das Leben und Sterben des DDR-Punkers Dieter 'Otze' Ehrlich und seine leg
 endäre Band 'Schleimkeim'. Der Film taucht tief in die Underground-Musikszen
 e der 1980er Jahre ein und beleuchtet dabei die kreative und subversive En
 ergie im Alltag der Diktatur. Durch Interviews mit ehemaligen Bandmitglied
 ern und Archivmaterial gibt der Film einen Einblick in den Alltag der Band
  und erzählt ihre Erfolgsgeschichte bis zum traurigen Ende ihres Frontmanns.
 Dokumentarfilm\, 2023\, Regie: Jan Heck\, 96minIm Gespräch: Jan Heck (Regiss
 eur) und Sophia Wetzke (rbb)Vorprogramm17:30 Uhr ? Kombiführung: Einblicke in d
 as Archiv der DDR-Opposition und das Stasi-Unterlagen-ArchivAnmeldung zu d
 en Führungen unter: einblick-ins-geheime@bundesarchiv.deFilm 19.30 UhrDas Campu
 s-Kino ist eine Kooperation mit der Robert-Havemann-Gesellschaft e. V.\, d
 em Berliner Aufarbeitungsbeauftragten und unseren Medienpartnern Der Tages
 spiegel\, Radio Eins und tipBerlin. Das Campus-Kino findet unter Mitwirkun
 g von Stasimuseum\, UOKG e. V. und dem Förderverein 'Campus für Demokratie' e. V. 
 statt.\n\nViel Spass wünscht Gratis-in-Berlin\n\nLink zum Tip: \nZu den Gratis-
 in-Berlin Angeboten: http://www.gratis-in-berlin.de\n
DTSTART;VALUE=DATE:20240827
DTEND;VALUE=DATE:20240828
SUMMARY:Campus-Kino 'Schleimkeim - Otze und die DDR von unten'
END:VEVENT
END:VCALENDAR
