BEGIN:VCALENDAR
VERSION:2.0
PRODID:-//Gratis-in-Berlin//NONSGML kigkonsult.se iCalcreator 2.14//
METHOD:PUBLISH
X-WR-CALNAME:Gratis-in-Berlin Tip Kalender
X-WR-CALDESC:Erhalte Gratis-in-Berlin Tips in deinem Kalender
BEGIN:VEVENT
UID:20260420T084728UTC-5325rjVXU0@Gratis-in-Berlin
DTSTAMP:20260420T084728Z
DESCRIPTION:Liebe Cineast*innen\,unsere InselKino-Reihe ?Zwischenwelten ? M
 igration im Film? geht weiter ? save the date! Am Sonntag\, den 27. April\
 , zeigen wir einen wunderbaren\, preisgekrönten mexikanisch-amerikanischen Fa
 milienfilm\, den wir ab ca. 10 Jahren empfehlen (also auch für Kinder geeignet\
 , die Untertitel lesen können).Diesmal starten wir ausnahmsweise schon um 17 
 Uhr. Kommt vorbei\, bringt Freunde mit\, der Eintritt ist frei!LOS LOBOS /
  DIE WÖLFERegie: Samuel Kishi LeopoMexico/USA 2019\, 95 Minuten\, FSK 6\, S
 pielfilmSprachen: Spanisch\, Englisch\, Kantonesisch mit deutschen Unterti
 teln?We want to go Disney\, one ticket please!?: Sobald sie diesen Satz au
 swendig können\, so verspricht es Mutter Lucía ihren Söhnen\, machen sie einen Aus
 flug nach Disneyland. Davon träumen Max und Leo schon lange. Doch erst einma
 l beschränkt sich ihr Leben auf ein heruntergekommenes Apartment in Albuquer
 que. Mit allem\, was in einen Koffer passt\, ist die Familie neu von Mexik
 o in die USA gekommen. Tagsüber sind die Brüder oft alleine\, weil Lucía jede Arbeit a
 nnehmen muss\, die sie kriegen kann. ?Ihr seid beide starke Wölfe?\, macht si
 e ihnen Mut und spricht ihnen neben ein paar Brocken Englisch sieben Regel
 n auf Tonband\, an die sich die Brüder eisern zu halten haben. Regel Nummer 1: 
 Nie die Wohnung verlassen. Gegen die Langeweile lernen die beiden eifrig d
 ie fremden Worte und erschaffen sich eine Fantasiewelt mit eigenen Superhe
 lden: fliegenden Ninja-Wölfen\, die in fantasievollen Animationen zu sehen si
 nd. Scheu wie Welpen wagen sich Max und Leo anfangs kaum aus ihrem Bau\, d
 ann packt die beiden jedoch eine immer größer werdende Neugier.Großer Preis de
 r Internationalen Jury von Generation Kplus für den Besten Film und Friedensfil
 mpreis 2020Sonntag\, 27.04.\, 17 UhrTheater-Raum im KREATIVHAUS\, Fischeri
 nsel 3\, 10179 BerlinKostenlosohne AnmeldungFilmreihe in Kooperation zwisc
 hen Stadtlichter. Internationale Filmnächte in Berlin @stadtlichterberlin un
 d dem Projekt ?Wir\, hier und jetzt!? im KREATIVHAUS\n\nViel Spass wünscht Grat
 is-in-Berlin\n\nLink zum Tip: \nZu den Gratis-in-Berlin Angeboten: http://
 www.gratis-in-berlin.de\n
DTSTART;VALUE=DATE:20250427
DTEND;VALUE=DATE:20250428
SUMMARY:Film 'Los Lobos' - InselKino-Reihe ?Zwischenwelten ? Migration im F
 ilm?
END:VEVENT
END:VCALENDAR
