BEGIN:VCALENDAR
VERSION:2.0
PRODID:-//Gratis-in-Berlin//NONSGML kigkonsult.se iCalcreator 2.14//
METHOD:PUBLISH
X-WR-CALNAME:Gratis-in-Berlin Tip Kalender
X-WR-CALDESC:Erhalte Gratis-in-Berlin Tips in deinem Kalender
BEGIN:VEVENT
UID:20260422T124522UTC-8344bUvtZG@Gratis-in-Berlin
DTSTAMP:20260422T124522Z
DESCRIPTION:Abb.:&nbsp\;Schlemihl reist zum Nordpol\, Zeichnung von E.T.A. 
 Hoffmann\, 1816Sonntag\, 22.06.\, 18 Uhr.&nbsp\;Ulrike Ottinger »Chamissos 
 Schatten. Eine Filmreise zur Beringsee in drei Kapiteln«Kapitel 1\, Alaska 
 und die aleutischen Inseln\, 193 Min.Ort: Marlene-Dietrich-Saal\, Kinosaal
  im Rathaus Schöneberg\, John-F.-Kennedy-Platz\, 10825 BerlinEintritt frei»Auf
  Chamissos Spuren«Literatur-Salon Potsdamer Straße\, Projekt mit Lesungen\, 
 Filmen\, Führungen.Selten hat eine Geschichte so viel bewegt. »Peter Schlemihls 
 wundersame Geschichte«\, vom Mann ohne Schatten\, vom Glückssäckel\, der Tarnkap
 pe und von den Siebenmeilenstiefeln nimmt die Lebensgeschichte des Autors 
 Adelbert von Chamisso vorweg. Der Migrant aus Frankreich wurde Naturforsch
 er\, Weltreisender und Dichter. Mit einer russischen Expedition auf der Su
 che nach der Nordwest-Passage\, segelte er drei Jahre um die Welt\, botani
 sierte\, sammelte und schrieb.Ulrike Ottinger\, avantgardistische Filmemac
 herin\, Malerin und Fotografin\, folgte den nördlichen Expeditionsrouten Cham
 issos auf seiner Reise um die Welt.&nbsp\;Wir zeigen den Film von Ulrike O
 ttinger »Chamissos Schatten. Eine Filmreise zur Beringsee in drei Kapiteln« 
 in 4 Teilen an 4 Abenden. am 22. Juni und am 4.\, 5. und 6. Juli\, jeweils
  ab 18 Uhr im Rathaus Schöneberg im Marlene-Dietrich-Saal\, Kinosaal im Ratha
 us Schöneberg.Aus dem Berlinale-Programm 2016: ?Zeit meint hier nicht die Länge
  des Films\, sondern die Gleichzeitigkeit der Jahrhunderte\, die Zeit\, di
 e man im Kino dazugewinnt.?Im Sommer besuchen wir Chamissos Orte in Berlin
 \, u.a. mit Autor und Stadtführer Michael Bienert. Im Herbst gibt es Lesungen u
 nd Gespräche.Das Projekt wird gefördert durch die Dezentrale Kulturarbeit Tempe
 lhof-Schöneberg\n\nViel Spass wünscht Gratis-in-Berlin\n\nLink zum Tip: \nZu den G
 ratis-in-Berlin Angeboten: http://www.gratis-in-berlin.de\n
DTSTART;VALUE=DATE:20250622
DTEND;VALUE=DATE:20250623
SUMMARY:Ulrike Ottinger »Chamissos Schatten. Kap. 1: Alaska und die aleutisc
 hen Inseln« 
END:VEVENT
END:VCALENDAR
