BEGIN:VCALENDAR
VERSION:2.0
PRODID:-//Gratis-in-Berlin//NONSGML kigkonsult.se iCalcreator 2.14//
METHOD:PUBLISH
X-WR-CALNAME:Gratis-in-Berlin Tip Kalender
X-WR-CALDESC:Erhalte Gratis-in-Berlin Tips in deinem Kalender
BEGIN:VEVENT
UID:20260420T082600UTC-54170ZBUC9@Gratis-in-Berlin
DTSTAMP:20260420T082600Z
DESCRIPTION:Kino und Nachgespräch in der Passionskirche: VON MENSCHEN\, DIE A
 UF BÄUME STEIGEN(Regie: Bernadette Haukeund Christian Fussenegger\, 2023)Ei
 n Film über Klettern\, Selbstermächtigung und maximale Wirkung. Und über Wasser und vi
 el Kies. Die Filmemacher:innen begleiten über 18 Monate lang Aktivist:innen run
 d um das KlimaCamp im Altdorfer Wald. Protest und ziviler Ungehorsam stoßen
  in Oberschwaben bei den meisten Bürger:innen auf Unverständnis und offene Ablehn
 ung\, auch wenn es um den Erhalt der natürlichen Lebensgrundlagen geht. Nun reg
 t sich im Kletteraktivismus eine neue Form des Widerstands\, die aber geri
 chtlich unnachgiebig verfolgt wird.Die beiden Regisseur:innen werden für das Fi
 lmgespräch vor Ort sein.Kino~Passion ist eine monatliche Film- und Gesprächsre
 ihe in der Passionskirche in Berlin-Kreuzberg\, für Menschen mit keinem oder kl
 einem oder mittlerem oder großem Einkommen und alle\, die Lust auf großes Ki
 no und Gespräch haben.Weiteres unter: https://www.kino-passion.de/\n\nViel S
 pass wünscht Gratis-in-Berlin\n\nLink zum Tip: \nZu den Gratis-in-Berlin Angebo
 ten: http://www.gratis-in-berlin.de\n
DTSTART;VALUE=DATE:20250917
DTEND;VALUE=DATE:20250918
SUMMARY:Kino-Passion Von Menschen\, die auf Bäume steigen & Nachgespräch mit de
 n Regisseur:innen
END:VEVENT
END:VCALENDAR
