BEGIN:VCALENDAR
VERSION:2.0
PRODID:-//Gratis-in-Berlin//NONSGML kigkonsult.se iCalcreator 2.14//
METHOD:PUBLISH
X-WR-CALNAME:Gratis-in-Berlin Tip Kalender
X-WR-CALDESC:Erhalte Gratis-in-Berlin Tips in deinem Kalender
BEGIN:VEVENT
UID:20260419T133953UTC-8872XLFFon@Gratis-in-Berlin
DTSTAMP:20260419T133953Z
DESCRIPTION:Berlinale Spotlight ? Panorama: ?Khartoum?&nbsp\;Im Jahr 2022 b
 egannen vier sudanesische Filmschaffende und ein britischer Regisseur ein 
 Filmprojekt\, für das sie fünf Einwohnerinnen und Einwohner von Khartum begleiteten\
 , um ihren Alltag und ihre Träume einzufangen.Im Dokumentationszentrum Fluch
 t\, Vertreibung\, Versöhnung nahe Potsdamer Platz. Am besten früher hingehen\, da 
 gibt es auch eine spannende Fotoausstellung 'Der Treck'.&nbsp\;\n\nViel Sp
 ass wünscht Gratis-in-Berlin\n\nLink zum Tip: https://www.gratis-in-berlin.de/k
 alender/item/2076065-berlinale-spotlight-khartoum\nZu den Gratis-in-Berlin
  Angeboten: http://www.gratis-in-berlin.de\n
DTSTART;VALUE=DATE:20251126
DTEND;VALUE=DATE:20251127
SUMMARY:Berlinale Spotlight: Khartoum
END:VEVENT
END:VCALENDAR
