BEGIN:VCALENDAR
VERSION:2.0
PRODID:-//Gratis-in-Berlin//NONSGML kigkonsult.se iCalcreator 2.14//
METHOD:PUBLISH
X-WR-CALNAME:Gratis-in-Berlin Tip Kalender
X-WR-CALDESC:Erhalte Gratis-in-Berlin Tips in deinem Kalender
BEGIN:VEVENT
UID:20260419T190023UTC-43024i0CUE@Gratis-in-Berlin
DTSTAMP:20260419T190023Z
DESCRIPTION:'Wem gehört Kreuzberg' und 100% Tempelhofer Feld laden ein in den 
 Kiezraum im DragonerarrealDer Dokumentarfilm FELDLIEBE erzählt die bewegende
  Geschichte des Tempelhofer Feldes ? von der früheren Flughafenfläche zum lebendi
 gen Freiraum mitten in Berlin.Ein Film über Gemeinschaft\, Wandel und die Frage
 : Wie wollen wir in unserer Stadt zusammenleben und wie können wir sie weiter
 hin gemeinsam gestalten? Nach dem Film gibt es Raum für Austausch\, Ideen und G
 espräche.Bringt gerne Freunde und Freundinnen mit!\n\nViel Spass wünscht Gratis-i
 n-Berlin\n\nLink zum Tip: \nZu den Gratis-in-Berlin Angeboten: http://www.
 gratis-in-berlin.de\n
DTSTART;VALUE=DATE:20260422
DTEND;VALUE=DATE:20260423
SUMMARY:Feldliebe (Film) ? Eine Liebe\, die ewig hält: Das Tempelhofer Feld i
 m Kiezraum Dragonerarreal
END:VEVENT
END:VCALENDAR
