BEGIN:VCALENDAR
VERSION:2.0
PRODID:-//Gratis-in-Berlin//NONSGML kigkonsult.se iCalcreator 2.14//
METHOD:PUBLISH
X-WR-CALNAME:Gratis-in-Berlin Tip Kalender
X-WR-CALDESC:Erhalte Gratis-in-Berlin Tips in deinem Kalender
BEGIN:VEVENT
UID:20260419T155520UTC-8557r0MWMa@Gratis-in-Berlin
DTSTAMP:20260419T155520Z
DESCRIPTION:Zur Eröffnung des Beteiligungsprojektes ?Schoeler Scholle? in der 
 ersten Gartensaison lädt das Schoeler-Schlösschen bei freiem Eintritt ein zu ei
 ner filmischen Reise durch 100 Jahre Gartengeschichte kuratiert von Christ
 ine Kisorsy. Gespräche mit Filmemacher:innen\, Historiker:innen und Akteur:i
 nnen begleiten das Programm.Urban Gardening in BerlinDer Dokumentarfilm ?S
 prechende Gärten - Die Berliner Urban Gardening Bewegung? von Teresa und Ren
 é Reichelt stellt 7 verschiedenen Gartenprojekte in Berlin mit ihrer Besonde
 rheit und Vielfältigkeit vor. Im Mittelpunkt des Films stehen die Akteure\, 
 ihre Visionen und ihre Projekte u.a. Wuhlegarten\, Allmende-Kontor\, Die I
 nitiativen ?Obstbäume im Görli? und ?Wir ernten\, was wir säen?\, sowie Himmelbee
 t und Prinzessinnengarten.Der Filmemacher George Eich begleitet Aktivist:i
 nnen\, Freunde und Nachbarn in einem interkulturellen Garten in Kreuzberg.
  Zum Abschluss zieht der Nachbarschaftsgarten ?Rosa Rose? durch die Stadt 
 an einen neuen Standort\, weil das Gebiet bebaut wird. Dabei nutzen sie di
 e Gelegenheit\, um für mehr Grünflächen und mehr Gemeinschaftsgärten in der Stadt zu d
 emonstrieren.Im Anschluss folgt ein Gespräch mit dem Regieteam Teresa und Re
 né Reichelt und der Filmkuratorin Christine Kisorsy.\n\nViel Spass wünscht Gratis
 -in-Berlin\n\nLink zum Tip: https://www.gratis-in-berlin.de/kino/item/2077
 755-gartenfilmprogramm-im-schoeler-schloesschen\nZu den Gratis-in-Berlin A
 ngeboten: http://www.gratis-in-berlin.de\n
DTSTART;VALUE=DATE:20260618
DTEND;VALUE=DATE:20260619
SUMMARY:Gartenfilmprogramm im Schoeler Schlösschen 
END:VEVENT
END:VCALENDAR
