BEGIN:VCALENDAR
VERSION:2.0
PRODID:-//Gratis-in-Berlin//NONSGML kigkonsult.se iCalcreator 2.14//
METHOD:PUBLISH
X-WR-CALNAME:Gratis-in-Berlin Tip Kalender
X-WR-CALDESC:Erhalte Gratis-in-Berlin Tips in deinem Kalender
BEGIN:VEVENT
UID:20260419T191058UTC-3295SirUNE@Gratis-in-Berlin
DTSTAMP:20260419T191058Z
DESCRIPTION:Im Rahmen der Academic Freedom Week 2026 laden die Universität de
 r Künste Berlin und die Filmuniversität Babelsberg KONRAD WOLF in Kooperation mit
  dem Institut français Berlin zu einer Filmvorführung mit anschließendem Gespräch ei
 n.Angesichts zunehmender geopolitischer Spannungen und der Zunahme repress
 iver Systeme geraten zentrale Werte wie akademische Freiheit und die Aufna
 hme gefährdeter Wissenschaftler*innen und Künstler*innen weltweit unter Druck ? a
 uch in Europa. Der Scholars at Risk Report 2025 sowie aktuelle Daten des A
 cademic Freedom Index (AFi) zeigen einen deutlichen globalen Rückgang akademisc
 her Freiheit in den vergangenen Jahren.Die Academic Freedom Week 2026 steh
 t daher unter den Themen Schutz und (Re-)Konstruktion. Im Mittelpunkt steh
 en die komplexen Lebenswege von Wissenschaftler*innen und Künstler*innen\, die 
 aufgrund von Krieg\, Verfolgung oder politischem Druck ihre Heimat verlass
 en mussten und in neuen gesellschaftlichen Kontexten einen Neuanfang wagen
 . Zugleich werden Strategien und Initiativen diskutiert\, die akademische 
 Freiheit auf regionaler und internationaler Ebene stärken und schützen können. Die V
 eranstaltungswoche fördert den Austausch über akademische Freiheit innerhalb und a
 ußerhalb akademischer Gemeinschaften mit Veranstaltungen in Berlin und Bran
 denburg sowie Kooperationen mit europäischen wissenschaftlichen und kulturel
 len Akteur*innen.Die Hauptorganisatoren sind die Hochschulen des Scholars 
 at Risk Berlin-Brandenburg und der Berlin University Alliance. Die teilneh
 menden Hochschulen haben den vergangenen zehn Jahren zahlreiche gefährdete W
 issenschaftler*innen und Künstler*innen aufgenommen. 2023 gründeten sie eine regiona
 le Scholars at Risk Section\, um Ressourcen und Expertise zu bündeln und Unters
 tützungs-strukturen weiter auszubauen.FilmprogrammMy Grandmother is a SkydiverA
 nimationsfilm\, 13 Min.Filmuniversität Babelsberg KONRAD WOLFRegie: Polina P
 iddubnaAlfyia\, eine lebensfrohe junge Frau im Zentralasien der 1960er Jah
 re\, springt Fallschirm und studiert Hebammenkunde\, als sie einen außergew
 öhnlichen Anruf aus der Zukunft erhält: Ihre Enkelin meldet sich aus dem Jahr 2
 022 und sorgt sich um die Sicherheit ihrer Großmutter im Kontext des russis
 chen Angriffs auf die Ukraine. In diesem generationenübergreifenden Dialog über Zeit
  und Raum hinweg versucht die Enkelin\, Familienerinnerungen neu zu denken
 \, ihre eigene Identität zu hinterfragen und den Kreislauf kollektiver Traum
 ata zu durchbrechen.The Non-MonumentKurzfilm\, 13 Min.Regie: Yara SalehDer
  Film hinterfragt die Paradoxien der Erinnerungskultur im Kontext des anha
 ltenden Konflikts in Syrien. Er zeigt\, wie staatlich errichtete Denkmäler p
 olitische Narrative festschreiben und gleichzeitig andere Erinnerungen aus
 blenden können. ?The Non-Monument? stellt die Frage\, wie traumatische Ereign
 isse dokumentiert und erinnert werden können\, wenn Konflikte noch andauern u
 nd keine klare historische Distanz möglich ist.Die Veranstaltung findet im Ci
 nema Paris\, Kurfürstendamm 211\, 12047 statt.Die Filme werden in OmU gezeigt\,
  das Q&amp\;A findet auf Englisch statt.\n\nViel Spass wünscht Gratis-in-Berlin
 \n\nLink zum Tip: \nZu den Gratis-in-Berlin Angeboten: http://www.gratis-i
 n-berlin.de\n
DTSTART;VALUE=DATE:20260519
DTEND;VALUE=DATE:20260520
SUMMARY:Academic and artistic freedom in the context of conflict and war: F
 ilm Screening & Q&A
END:VEVENT
END:VCALENDAR
