BEGIN:VCALENDAR
VERSION:2.0
PRODID:-//Gratis-in-Berlin//NONSGML kigkonsult.se iCalcreator 2.14//
METHOD:PUBLISH
X-WR-CALNAME:Gratis-in-Berlin Tip Kalender
X-WR-CALDESC:Erhalte Gratis-in-Berlin Tips in deinem Kalender
BEGIN:VEVENT
UID:20260419T173304UTC-1568OwA0b4@Gratis-in-Berlin
DTSTAMP:20260419T173304Z
DESCRIPTION:Liebe Cineast*innen\, unsere INSELKINO-Reise ?Zwischenwelten ? 
 Migration im Film? im Stadtteilzentrum Kreativhaus geht am 26. April leide
 r schon zu Ende. An dem Sonntagabend zeigen wir die preisgekrönten Dokumentat
 ion 'EINHUNDERTVIER'. Kommt vorbei\, bringt Freunde mit\, der Eintritt ist
  frei!Zur Vorführung sind der Regisseur Jonathan Schörnig und der Schlauchboot-Kap
 itän Martin Ernst zu Gast.Wie eine Seenotrettung ablaufen kann\, übersteigt jegli
 che Vorstellungskraft. Die Echtzeitdokumentation ?Einhundertvier? bringt d
 iese dramatische Situation näher. Der Film zeigt wie quälend lange es dauert\,
  104 Personen von einem sinkenden Schlauchboot zu bergen.Mensch für Mensch\, Sc
 hritt für Schritt wird die Aktion mit mehreren parallelen Kameras begleitet. Mi
 t dem Auftauchen der Libyschen Küstenwache spitzt sich die Lage zu. Tagelang ha
 rren die Geretteten und die Crew auf hoher See aus\, da kein Mittelmeerlan
 d ihnen erlaubt anzulegen. Erst nach einem schlimmen Sturm erreicht das Sc
 hiff einen europäischen Hafen.Filmreihe in Kooperation zwischen Stadtlichter
 . Internationale Filmnächte in Berlin @stadtlichterberlin und dem Projekt ?W
 ir\, hier und jetzt!? im Stadtteilzentrum KREATIVHAUS.\n\nViel Spass wünscht Gr
 atis-in-Berlin\n\nLink zum Tip: https://www.gratis-in-berlin.de/kino/item/
 2077927-inselkino-einhundertvier\nZu den Gratis-in-Berlin Angeboten: http:
 //www.gratis-in-berlin.de\n
DTSTART;VALUE=DATE:20260426
DTEND;VALUE=DATE:20260427
SUMMARY:Inselkino: Einhundertvier
END:VEVENT
END:VCALENDAR
