BEGIN:VCALENDAR
VERSION:2.0
PRODID:-//Gratis-in-Berlin//NONSGML kigkonsult.se iCalcreator 2.14//
METHOD:PUBLISH
X-WR-CALNAME:Gratis-in-Berlin Tip Kalender
X-WR-CALDESC:Erhalte Gratis-in-Berlin Tips in deinem Kalender
BEGIN:VEVENT
UID:20260419T155319UTC-6307fzgWlh@Gratis-in-Berlin
DTSTAMP:20260419T155319Z
DESCRIPTION:Kaum jemand fragt\, ob die Zukunft unserer Arbeit wirklich nach
 haltig ist. Oder ob wir mit mehr\, härter und länger arbeiten wirklich etwas z
 um Guten verändern können.Der Dokumentarfilm ?Ohne Chefs ? Demokratie bei der A
 rbeit? von Filmemacher Mario Burbach zeigt eine Alternative zum ?Arbeitswa
 hn?: selbstverwaltete Betriebe\, die ihre eigenen Ziele und Arbeitsweisen 
 festlegen ? im Einklang mit den eigenen Vorstellungen von guter Arbeit.Ver
 schiedene\, sogenannte Kollektivbetriebe\, stellen sich und ihre Arbeitswe
 isen vor: vom veganen Café in Berlin-Neukölln über den Fahrradkurierdienst in Dresde
 n bis hin zur Premium-Kaffee-Rösterei in Hamburg. Sie alle vereint\, dass sie
  gemeinsam Entscheidungen treffen und ihre Unternehmen nach moralischen\, 
 statt rein profitorientierten Vorstellungen leiten. Das kann anstrengend s
 ein\, macht aber auch sehr viel Platz für die eigenen Wünsche und Ideen ? Chefs brau
 cht?s dazu nicht.Nach dem Film werden wir von Lothar Galow-Bergemann mehr 
 über Charakter und Funktionsweise des Kapitalismus hören. Kollektivbetriebe\, so s
 eine These\, vermögen ihn zwar nicht aus den Angeln zu heben\, können aber eine 
 wichtige Rolle in der Formierung einer breiten und bunten gesellschaftlich
 en Bewegung für ein grundsätzlich anderes Wirtschaften spielen.Es wird um die abs
 urde Wachstumslogik und die Fülle an Bullshitarbeiten gehen\, die uns ?unsere W
 irtschaft? abnötigt. Aber auch um die Fallstricke von Alternativbewegungen\, 
 die Perspektive der Gewerkschaften und die Notwendigkeit radikaler Arbeits
 zeitverkürzung.Lothar Galow-Bergemann ist seit den 68er-Jahren in sozialen und 
 linken Bewegungen aktiv. Aus seiner Arbeit als Gewerkschafter und Personal
 rat hat er Erfahrungen gesammelt\, die er in seine Vorträge einfließen lässt.Pr
 ogramm? 19:30 Uhr Filmvorstellung ?Ohne Chefs ? Demokratie bei der Arbeit?
  (54 Minuten)? Danach wird Lothar über Arbeitskämpfe und die Alternativen zum Sta
 tus quo vortragen.? Diskussionsrunde mit:Lothar Galow-Bergemann (Gewerksch
 after und Autor)Mario Burbach (Regisseur des Films ?Ohne Chefs?)Alle Infos
  auch: https://naturfreundejugend-berlin.de/termine/ohne-chefs\n\nViel Spa
 ss wünscht Gratis-in-Berlin\n\nLink zum Tip: \nZu den Gratis-in-Berlin Angebote
 n: http://www.gratis-in-berlin.de\n
DTSTART;VALUE=DATE:20260422
DTEND;VALUE=DATE:20260423
SUMMARY:Filmscreening & Diskussion: 'Ohne Chefs' feat. Radikale Arbeitszeit
 kürzung & Andere Alternativen
END:VEVENT
END:VCALENDAR
