BEGIN:VCALENDAR
VERSION:2.0
PRODID:-//Gratis-in-Berlin//NONSGML kigkonsult.se iCalcreator 2.14//
METHOD:PUBLISH
X-WR-CALNAME:Gratis-in-Berlin Tip Kalender
X-WR-CALDESC:Erhalte Gratis-in-Berlin Tips in deinem Kalender
BEGIN:VEVENT
UID:20260419T122213UTC-2069d3uJ02@Gratis-in-Berlin
DTSTAMP:20260419T122213Z
DESCRIPTION:Regie: Boris Lojkine\, Frankreich 2024\, 93 min\, OmUEinlass: 1
 8:30 UhrPlatzreservierung über unsere Webseite erforderlich! (siehe Link unten)
 Boris Lojkine hat einen sehr authentischen Spielfilm über einen guineischen Ess
 enskurier in Paris gedreht\, der uns Zuschauer atemlos und betroffen zurückläss
 t. Das Drehbuch zu ?Souleymans Story? entstand nach Gesprächen des Regisseur
 s mit Fahrradkurieren in Paris und Amiens. Abou Sangaré\, ein nichtprofessio
 neller Schauspieler\, hat bei den Filmfestspielen in Cannes 2025 für seine Leis
 tung den Jury- und Darstellerpreis erhalten. Auch beim renommierten französis
 chen Filmpreis César gab es vier Auszeichnungen für den Film.Im Anschluss gibt es
  ein Nachgespräch mit dem indischen Spezialisten Aju John über die Situation der 
 Fahrradkuriere in Deutschland.Freut euch auf einen Kinoabend in der Ulme35
 . Die Plätze sind begrenzt\, deshalb ist eine Reservierung erforderlich (sie
 he Link unten).Audiosprache: Französisch Original\, Untertitel: Deutsch.\n\nV
 iel Spass wünscht Gratis-in-Berlin\n\nLink zum Tip: \nZu den Gratis-in-Berlin A
 ngeboten: http://www.gratis-in-berlin.de\n
DTSTART;VALUE=DATE:20260417
DTEND;VALUE=DATE:20260418
SUMMARY:»Souleymans Story« ? Interkulturkino
END:VEVENT
END:VCALENDAR
